BEGIN:VCALENDAR
PRODID:NingEventWidget-v1
VERSION:2.0
METHOD:PUBLISH
BEGIN:VEVENT
UID:1171189:Event:34153
DTSTAMP:20260421T200233Z
SUMMARY:Cirkestra and Over A Carboard Sea in Harvard Square!
DESCRIPTION:the show:\n\nOver A Cardboard Sea (New England's Only Ragt
 ime Ukulele Hand-Farting Vaudeville Comic Jass Band)\nhttp://www.myspa
 ce.com/sailingoveracardboardsea\n\nCirkestra (Circus meets eastern eur
 opean, klezmer and gypsy music)\nhttp://www.cirkestra.com\n\nalso, a p
 ossible guest appeareance by the legendary\n\nPortland Musical Saw Orc
 hestra\n(http://www.youtube.com/watch?v=yuFp4A70K_0)\n\n@\n\nClub Pass
 im\nTuesday, February 2nd, 8pm SHARP!! (doors open at 6:30 pm)\n47 Pal
 mer Street,\nCambridge, MA\nTickets: $12/10 (members)\nFMI: 617-492-76
 79\n\nOver A Cardboard Sea is a 9-piece nostalgia act from Portland, M
 aine that plays American popular song from the golden age of Tin Pan A
 lley (1890-1939). Comic songs, novelty tunes, and tear-jerkers from th
 e era of wax cylinder recording come to life when this ukulele-led lin
 e-up takes the stage! It’s a wow! It’s gigantic! It’s a real hum
 dinger! Four-part harmonies, musical saws and bad jokes make this grou
 p of ragtime rascals a must-see! They know show business from A to tri
 ple Z, and it shows! Just take a look at the Fabulous Burd Duo: a brot
 her/sister act with harmonizing hand-farts!\n\nCirkestra is the group 
 that started as a circus pit band and stayed together. The group has c
 reated 4 original scores for circus.\n\nFor more information visit htt
 p://neighborsforneighbors.org/events/cirkestra-and-over-a-carboard
DTSTART:20100203T003000Z
DTEND:20100203T033000Z
CATEGORIES:music
LOCATION:Club Passim
WEBSITE:http://www.clubpassim.com/
URL:http://www.clubpassim.com/
CONTACT:
ORGANIZER;CN="adam schutzman":http://neighborsforneighbors.org/profile
 /adamschutzman
ATTACH;FMTTYPE="image/jpeg":
ATTENDEE;ROLE=REQ-PARTICIPANT;PARTSTAT=ACCEPTED;RSVP=TRUE;CN="adam sch
 utzman":http://neighborsforneighbors.org/profile/adamschutzman
END:VEVENT
END:VCALENDAR
