BEGIN:VCALENDAR
PRODID:NingEventWidget-v1
VERSION:2.0
METHOD:PUBLISH
BEGIN:VEVENT
UID:1171189:Event:61312
DTSTAMP:20260421T230434Z
SUMMARY:Citizens United: One Year Later, How Has the Supreme Court's D
 ecision Changed U.S. Politics?
DESCRIPTION:Speakers: John Bonifaz and Renee Loth\n \nOne year ago, t
 he U.S. Supreme Court handed down theruling, Citizens United v. Federa
 l Election Commission, potentially alteringthe political landscape for
  years to come. Join us for a discussion withveteran journalist Renee 
 Loth of The Boston Globe and pioneering legal advocateJohn Bonifaz, co
 -founder of Free Speech for People. What has been the impact ofthe Cit
 izens United decision?  Howdid it effect the 2010 mid-term election i
 n terms of money, advertising andoutcomes? What can we expect in the 2
 012 Presidential election? What aremechanisms to strengthen self-gover
 nment and democracy in light of the CitizensUnited decision?\n \nRene
 e Loth is veteran journalist with The Boston Globe. Since 2000,she has
  been Editor of The Globe's Editorial Page. She has also served as The
 Globe's political editor and written for the Sunday magazine.\n \nJoh
 n Bonifaz is the co-founder and Director ofFree Speech for People, a n
 on-partisan campaign to strengthen self-governmentand democracy in Ame
 rica by reversing Citizens United v. FEC and corporaterights doctrines
  that unduly leverage corporate economic power into politicalpower.\n\
 nFor more information visit http://neighborsforneighbors.org/events/ci
 tizens-united-one-year-later
DTSTART:20110121T000000Z
DTEND:20110121T020000Z
CATEGORIES:discussion
LOCATION:First Church in Jamaica Plain UU, 6 Eliot Street (Across from
  the monument)
WEBSITE:
URL:
CONTACT:
ORGANIZER;CN="Liz W.":http://neighborsforneighbors.org/profile/LizW
ATTACH;FMTTYPE="image/jpeg":http://storage.ning.com/topology/rest/1.0/
 file/get/2245131734?profile=original
ATTENDEE;ROLE=REQ-PARTICIPANT;PARTSTAT=ACCEPTED;RSVP=TRUE;CN="Liz W.":
 http://neighborsforneighbors.org/profile/LizW
END:VEVENT
END:VCALENDAR
