BEGIN:VCALENDAR
PRODID:NingEventWidget-v1
VERSION:2.0
METHOD:PUBLISH
BEGIN:VEVENT
UID:1171189:Event:27203
DTSTAMP:20260421T214750Z
SUMMARY:City Feed on Centre's 1st Birthday!
DESCRIPTION:TODAY, August 11th\nCity Feed on Centre Turns O N E !\n\nC
 OME ON DOWN AND RAISE YOUR MUG\n$1 Birthday Drinks All Day!\nChoose a 
 12 oz Boylan's Soda Fountain Drink,\nHot or Iced Tea, or Hot or Iced C
 offee\nAvailable at both locations!\n\nAll proceeds from our ONE Dolla
 r Birthday Drinks will be donated to Spontaneous Celebrations, JPNDC, 
 and Bikes not Bombs, organizations we've supported and have been suppo
 rted by since our start.\n\nWe couldn't have done it without you.\nTha
 nks for all your support. See you soon!\n\nFor more information visit 
 http://neighborsforneighbors.org/events/city-feed-on-centres-1st
DTSTART:20090811T040000Z
DTEND:20090812T035900Z
CATEGORIES:birthday, special
LOCATION:Both City Feed Locations
WEBSITE:http://www.cityfeedandsupply.com
URL:http://www.cityfeedandsupply.com
CONTACT:617-524-1700
ORGANIZER;CN="City Feed and Supply":http://neighborsforneighbors.org/p
 rofile/CityFeedandSupply
ATTACH;FMTTYPE="image/jpeg":
ATTENDEE;ROLE=REQ-PARTICIPANT;PARTSTAT=ACCEPTED;RSVP=TRUE;CN="City Fee
 d and Supply":http://neighborsforneighbors.org/profile/CityFeedandSupp
 ly
END:VEVENT
END:VCALENDAR
