BEGIN:VCALENDAR
PRODID:NingEventWidget-v1
VERSION:2.0
METHOD:PUBLISH
BEGIN:VEVENT
UID:1171189:Event:34489
DTSTAMP:20260421T164146Z
SUMMARY:Climate change, the economy and unending war: A new strategy i
 n a time of crisis
DESCRIPTION:Health care, war, global warming and the economy: These ar
 e the greatest problems we're facing today. The media and our elected 
 officials like to portray them as isolated issues, focusing on blame r
 ather than solutions that are in line with a vast majority of American
 s.\n\nThe Majority Agenda Project, a new Boston-based initiative, view
 s these issues as profoundly intertwined and, likewise, sees the solut
 ions as interconnected collaborations across labor, peace and climate 
 movements.\n\nOrganizers Suren Moodliar, Paul Shannon and Weimin Tchen
  will lead a discussion on the Majority Agenda Project and offer ways 
 for local people to get involved. They'll talk about a strategic agend
 a based on policies that will begin to solve these problems and alread
 y have a majority of support among the public.\n\nFor more information
  visit http://neighborsforneighbors.org/events/climate-change-the-econ
 omy-and
DTSTART:20100206T000000Z
DTEND:20100206T020000Z
CATEGORIES:discussion
LOCATION:First Church in Jamaica Plain UU, 6 Eliot Street (Across from
  the monument)
WEBSITE:
URL:
CONTACT:
ORGANIZER;CN="Liz W.":http://neighborsforneighbors.org/profile/LizW
ATTACH;FMTTYPE="image/jpeg":http://storage.ning.com/topology/rest/1.0/
 file/get/2245121257?profile=original
ATTENDEE;ROLE=REQ-PARTICIPANT;PARTSTAT=ACCEPTED;RSVP=TRUE;CN="Liz W.":
 http://neighborsforneighbors.org/profile/LizW
END:VEVENT
END:VCALENDAR
