BEGIN:VCALENDAR
PRODID:NingEventWidget-v1
VERSION:2.0
METHOD:PUBLISH
BEGIN:VEVENT
UID:1171189:Event:36472
DTSTAMP:20260421T182122Z
SUMMARY:Collage and Beyond: An Exhibit by Anita Barnes
DESCRIPTION:Painting with paper and drawing with scissors, Anita Barne
 s takes the world of collage to another dimension. Using intricate des
 igns, magazines, books, and a great deal of patience, Anita creates mo
 ments worth sharing.\n\nFor more information visit http://neighborsfor
 neighbors.org/events/collage-and-beyond-an-exhibit
DTSTART:20100301T230000Z
DTEND:20100331T220000Z
CATEGORIES:art, exhibit
LOCATION:Connolly Branch Library
WEBSITE:http://www.bpl.org/branches/connolly.htm
URL:http://www.bpl.org/branches/connolly.htm
CONTACT:617-522-1960
ORGANIZER;CN="Connolly Branch Library":http://neighborsforneighbors.or
 g/profile/ConnollyBranchLibrary
ATTACH;FMTTYPE="image/jpeg":http://storage.ning.com/topology/rest/1.0/
 file/get/2186464672?profile=original
ATTENDEE;ROLE=REQ-PARTICIPANT;PARTSTAT=ACCEPTED;RSVP=TRUE;CN="Connolly
  Branch Library":http://neighborsforneighbors.org/profile/ConnollyBran
 chLibrary
END:VEVENT
END:VCALENDAR
