BEGIN:VCALENDAR
PRODID:NingEventWidget-v1
VERSION:2.0
METHOD:PUBLISH
BEGIN:VEVENT
UID:1171189:Event:50445
DTSTAMP:20260421T200210Z
SUMMARY:Colonial Encampment at Loring Greenough House
DESCRIPTION:Come meet members of Boston's only Colonial reenactment gr
 oup, Gardner's Regiment, at Loring Greenough House in Jamaica Plain on
  August 14, 2010 from 11 AM to 4 PM. Talks, demonstrations and tours o
 f Loring Greenough House will be held thru the entire day. All are wel
 come and admission is free.\n\nFor more information visit http://neigh
 borsforneighbors.org/events/colonial-encampment-at-loring
DTSTART:20100814T150000Z
DTEND:20100814T200000Z
CATEGORIES:historic, reenactment
LOCATION:Across from the Civil War Monument
WEBSITE:
URL:
CONTACT:
ORGANIZER:Gardner's Regiment and Loring Greenough House
ATTACH;FMTTYPE="image/jpeg":
ATTENDEE;ROLE=REQ-PARTICIPANT;PARTSTAT=ACCEPTED;RSVP=TRUE;CN="Ed Roche
 ":http://neighborsforneighbors.org/profile/EdRoche
END:VEVENT
END:VCALENDAR
