BEGIN:VCALENDAR
PRODID:NingEventWidget-v1
VERSION:2.0
METHOD:PUBLISH
BEGIN:VEVENT
UID:1171189:Event:83683
DTSTAMP:20260421T204641Z
SUMMARY:\"Coltrane’s Ashé III\" : 34th Annual John Coltrane Memoria
 l Concert -
DESCRIPTION:Coltrane’s Ashé III: 34th Annual John Coltrane Memorial
  Concert. Honoring José Massó (“Con Salsa” on WBUR) and hosted b
 y Eric Jackson (on WGBH). Saturday, October 22, 7:30 pm. Tickets: $25 
 general admission (plus $2 order fee per ticket); discounts available 
 to groups, NU faculty & staff, WGBH Members, NU & non-NU students, and
  seniors. For tickets, visit or call for information: 617-373-4700 (TT
 Y 617-373-2184); hours Mon.-Fri., noon–6pm (extended to 8 pm on Wed.
 ), and one hour before the performance; or log onto http://tickets.neu
 .edu.For this year’s 34th anniversary, the John Coltrane Memorial Co
 ncert (JCMC) revisits Ashé (pronounced Ah-shay), Yoruban for the all-
 pervasive energy with which the Creator empowers humanity. JCMC explor
 ed ‘Trane’s connection to Ashé in their 1993 concert, which resul
 ted in a special edition double CD recording issued in time for their 
 second Ashé concert in 1998. Throughout the Caribbean, Ashé, or life
  force, speaks to divine presence, blessing, energy — or more succin
 ctly, it speaks to Amen.\n\nFor more information visit http://neighbor
 sforneighbors.org/events/coltrane-s-ash-iii-34th-annual-john-coltrane-
 memorial-concert
DTSTART:20111022T233000Z
DTEND:20111023T013000Z
CATEGORIES:jazz, concert
LOCATION:Blackman Theatre
WEBSITE:http://www.jcmc.neu.edu
URL:http://www.jcmc.neu.edu
CONTACT:617-373-8700
ORGANIZER:John Coltrane Memorial Concert
ATTACH;FMTTYPE="image/jpeg":http://storage.ning.com/topology/rest/1.0/
 file/get/2245143803?profile=original
ATTENDEE;ROLE=REQ-PARTICIPANT;PARTSTAT=ACCEPTED;RSVP=TRUE;CN="Mary Cur
 tin":http://neighborsforneighbors.org/profile/MaryCurtin
END:VEVENT
END:VCALENDAR
