BEGIN:VCALENDAR
PRODID:NingEventWidget-v1
VERSION:2.0
METHOD:PUBLISH
BEGIN:VEVENT
UID:1171189:Event:76875
DTSTAMP:20260421T171658Z
SUMMARY:Comedy with Wings
DESCRIPTION:Boston’s first ever and only ongoing female comedy night
 !  Comedy with Wings is the designated hot spot for female comedians 
 to hone, craft and test out their material in front of a fun, live aud
 ience of 50+ local comedy fans.   CWW is not limited to just stand-u
 p.  Included will be stories, songs, improv, skits, impersonations an
 d more. Acts are limited to 1-10 minutes in length.  Each month there
  will be a seasoned special guest not to be missed. Buy your ticket he
 re.\n \nJill Gibson of All The Kings Men and Bent Wit Cabaret will be
  our featured performer in September.\n \nComedy with Wings hosts Mar
 cy Goldberg Sacks and Robin Maxfield are commited to bringing out the 
 best in female comedy. The audience is sure to have an experience that
  is uplifting, hilarious and most importantly, super-absorbent!  Wome
 n interested in being considered for performing should send an email w
 ith their name, description of their act, length, and any urls to come
 dywithwings@gmail.com.  \n\nFor more information visit http://neighb
 orsforneighbors.org/events/comedy-with-wings
DTSTART:20110918T233000Z
DTEND:20110919T013000Z
CATEGORIES:entertainment-comedy, improv, skits, song, etc
LOCATION:Bella Luna-Milky Way Lounge
WEBSITE:http://milkywayjp.com
URL:http://milkywayjp.com
CONTACT:617-524-6060
ORGANIZER:Robin Maxfield and Marcy Sacks
ATTACH;FMTTYPE="image/jpeg":http://storage.ning.com/topology/rest/1.0/
 file/get/2245135101?profile=original
ATTENDEE;ROLE=REQ-PARTICIPANT;PARTSTAT=ACCEPTED;RSVP=TRUE;CN="Julia Wi
 se":http://neighborsforneighbors.org/profile/JuliaWise
END:VEVENT
END:VCALENDAR
