BEGIN:VCALENDAR
PRODID:NingEventWidget-v1
VERSION:2.0
METHOD:PUBLISH
BEGIN:VEVENT
UID:1171189:Event:50745
DTSTAMP:20260421T200229Z
SUMMARY:Community Cookout! Wed Aug 18
DESCRIPTION:Join us for another Community Cookout, Wed. Aug. 18, 6-8pm
  at Covenant Congregational Church, near the Forest Hills T Station, n
 ext to the courthouse. Stop by and grab a bite to eat, say hi and meet
  some neighbors. Hope to see you there!\n\nFor more information visit 
 http://neighborsforneighbors.org/events/community-cookout-wed-aug-18
DTSTART:20100818T220000Z
DTEND:20100819T000000Z
CATEGORIES:social, community, food, cookout, bbq
LOCATION:Covenant Congregational Church, Forest Hills
WEBSITE:http://www.bostoncov.org
URL:http://www.bostoncov.org
CONTACT:617-524-0775
ORGANIZER;CN="Fred Elliott-Hart":http://neighborsforneighbors.org/prof
 ile/FredElliottHart
ATTACH;FMTTYPE="image/jpeg":http://storage.ning.com/topology/rest/1.0/
 file/get/2245130377?profile=original
ATTENDEE;ROLE=REQ-PARTICIPANT;PARTSTAT=ACCEPTED;RSVP=TRUE;CN="Fred Ell
 iott-Hart":http://neighborsforneighbors.org/profile/FredElliottHart
END:VEVENT
END:VCALENDAR
