BEGIN:VCALENDAR
PRODID:NingEventWidget-v1
VERSION:2.0
METHOD:PUBLISH
BEGIN:VEVENT
UID:1171189:Event:58085
DTSTAMP:20260421T163841Z
SUMMARY:Community Lunch-in at Same Old Place Wed 11/24 @ Noon
DESCRIPTION:Inspired by our neighbor Susan's post, let's meet for lunc
 h on Wednesday, 11/24 (not 11/23 sorry) at noon at Same Old Place and 
 stage a lunch-in to let Same Old Place know we've got their back and t
 hat our neighborhood is defined by our spirit, commitment, and passion
  for the community we love and live in. Go Neighbors, and pizza, and s
 ubs, and salad!\n\nCome hungry, leave soul satisfied!\n\nPlease share 
 this on facebook and twitter. On twitter use the hastags #ILOVEJP #LUN
 CHIN and follow us - @NeighborTweet\n\nThanks!\n\nFor more information
  visit http://neighborsforneighbors.org/events/community-lunchin-at-sa
 me-old
DTSTART:20101124T170000Z
DTEND:20101124T190000Z
CATEGORIES:lunch-in
LOCATION:Same Old Place
WEBSITE:http://www.yelp.com/biz/same-old-place-jamaica-plain
URL:http://www.yelp.com/biz/same-old-place-jamaica-plain
CONTACT:Same Old Place - (617) 524-9461 - NFN 857-222-4420
ORGANIZER;CN="Joseph Porcelli (Chief Neighbor)":http://neighborsfornei
 ghbors.org/profile/josephporcelli
ATTACH;FMTTYPE="image/jpeg":http://storage.ning.com/topology/rest/1.0/
 file/get/2245131237?profile=original
ATTENDEE;ROLE=REQ-PARTICIPANT;PARTSTAT=ACCEPTED;RSVP=TRUE;CN="Theresa 
 M Vela":http://neighborsforneighbors.org/profile/TheresaMVela
ATTENDEE;ROLE=REQ-PARTICIPANT;PARTSTAT=ACCEPTED;RSVP=TRUE;CN="Ning Jun
  Yuan":http://neighborsforneighbors.org/profile/NingJunYuan
ATTENDEE;ROLE=REQ-PARTICIPANT;PARTSTAT=ACCEPTED;RSVP=TRUE;CN="Linda We
 iner":http://neighborsforneighbors.org/profile/LindaWeiner
ATTENDEE;ROLE=REQ-PARTICIPANT;PARTSTAT=ACCEPTED;RSVP=TRUE;CN="Juan Gon
 zalez":http://neighborsforneighbors.org/profile/JuanGonzalez
ATTENDEE;ROLE=REQ-PARTICIPANT;PARTSTAT=ACCEPTED;RSVP=TRUE;CN=Karen:htt
 p://neighborsforneighbors.org/profile/Karen
ATTENDEE;ROLE=REQ-PARTICIPANT;PARTSTAT=ACCEPTED;RSVP=TRUE;CN="Steve Ga
 rfield":http://neighborsforneighbors.org/profile/SteveGarfield
ATTENDEE;ROLE=REQ-PARTICIPANT;PARTSTAT=ACCEPTED;RSVP=TRUE;CN="Joseph P
 orcelli (Chief Neighbor)":http://neighborsforneighbors.org/profile/jos
 ephporcelli
ATTENDEE;ROLE=REQ-PARTICIPANT;PARTSTAT=ACCEPTED;RSVP=TRUE;CN=Loay:http
 ://neighborsforneighbors.org/profile/Loay
ATTENDEE;ROLE=REQ-PARTICIPANT;PARTSTAT=ACCEPTED;RSVP=TRUE;CN="Liz Lane
 ri":http://neighborsforneighbors.org/profile/LizLaneri
ATTENDEE;ROLE=REQ-PARTICIPANT;PARTSTAT=ACCEPTED;RSVP=TRUE;CN="Carol T"
 :http://neighborsforneighbors.org/profile/CarolT
ATTENDEE;ROLE=REQ-PARTICIPANT;PARTSTAT=ACCEPTED;RSVP=TRUE;CN="Daniel P
 erez Lacera":http://neighborsforneighbors.org/profile/DanielPerezLacer
 a
ATTENDEE;ROLE=REQ-PARTICIPANT;PARTSTAT=TENTATIVE;RSVP=TRUE;CN="David D
 oyle":http://neighborsforneighbors.org/profile/DavidDoyle
ATTENDEE;ROLE=REQ-PARTICIPANT;PARTSTAT=TENTATIVE;RSVP=TRUE;CN="Lisa Fl
 uet":http://neighborsforneighbors.org/profile/LisaFluet
ATTENDEE;ROLE=REQ-PARTICIPANT;PARTSTAT=TENTATIVE;RSVP=TRUE;CN="Ayanna 
 Kilpatrick":http://neighborsforneighbors.org/profile/AyannaKilpatrick
ATTENDEE;ROLE=REQ-PARTICIPANT;PARTSTAT=TENTATIVE;RSVP=TRUE;CN="Jessica
  Atcheson":http://neighborsforneighbors.org/profile/JessicaAtcheson
END:VEVENT
END:VCALENDAR
