BEGIN:VCALENDAR
PRODID:NingEventWidget-v1
VERSION:2.0
METHOD:PUBLISH
BEGIN:VEVENT
UID:1171189:Event:27324
DTSTAMP:20260422T044234Z
SUMMARY:Community Servings Farmers' Market
DESCRIPTION:Be sure to stop by Community Servings' Farmers Market\nHel
 d every Sunday thru October 18th from 10am-2pm.\n\nThis week’s farme
 rs and food vendors include: Silverbrook Farm, Big Sky Breads, Farm St
 and fine art + jewelry, and new this week: Millbrook Farms. Come down 
 and say hello!\n\nWe're conveniently located behind the Stony Brook T 
 station, across from the Kelly Rink, and off of Amory Street, so we're
  easy to get to by foot, by T, or by car.\n\nJoin us at the market and
  fill out your name and email address and we'll enter you to win one o
 f the gift certificate to Centre Street Café for their Mexicali Salad
 .\n\nThere is no better time to enjoy local corn and heirloom tomatoes
 , smokey black beans and cilantro lime dressing that make up this meal
 !\n\nWe'll be pulling a winner every hour (11AM, 12PM, 1PM and 2PM)\n\
 nOn site restrooms and even a shaded dog-waiting area available.\n\nFo
 r more information visit http://neighborsforneighbors.org/events/commu
 nity-servings-farmers-3
DTSTART:20090816T140000Z
DTEND:20090816T180000Z
CATEGORIES:"farmers'", market
LOCATION:Behind the Stony Brook T Station
WEBSITE:http://www.servings.org/about/directions.cfm
URL:http://www.servings.org/about/directions.cfm
CONTACT:617-522-7777
ORGANIZER;CN="Edith Murnane":http://neighborsforneighbors.org/profile/
 EdithMurnane
ATTACH;FMTTYPE="image/jpeg":http://storage.ning.com/topology/rest/1.0/
 file/get/2202588674?profile=original
ATTENDEE;ROLE=REQ-PARTICIPANT;PARTSTAT=ACCEPTED;RSVP=TRUE;CN="Edith Mu
 rnane":http://neighborsforneighbors.org/profile/EdithMurnane
END:VEVENT
END:VCALENDAR
