BEGIN:VCALENDAR
PRODID:NingEventWidget-v1
VERSION:2.0
METHOD:PUBLISH
BEGIN:VEVENT
UID:1171189:Event:49055
DTSTAMP:20260421T164206Z
SUMMARY:Community Servings' Farmers' Market Opening Celebration
DESCRIPTION:Join us tomorrow, July 21st, to celebrate opening the Farm
 ers' Market. Meet:\n\nCity Councilman John Tobin\nCommissioner Scott S
 oares of Agriculture Resources\nCommissioner Julia Kehoe of Transition
 al Asistance\n\nBrad Brown your favorite local baker from Blue Frog Ba
 kery\n\nFarmers from Heaven's Harvest and Millbrook Farms\n\nthe Bees 
 from Golden Rule Honey\n\nCome for the cooking demo, come for gorgeous
  local produce, come for beautifully baked cod and fresh made salsa, c
 ome for the fish filleting demo . . .\n\n. . . but please, come!\n\nHo
 pe to see you there, Edith\n\nFor more information visit http://neighb
 orsforneighbors.org/events/community-servings-farmers-5
DTSTART:20100721T200000Z
DTEND:20100721T230000Z
CATEGORIES:"celebration!"
LOCATION:Community Servings Parking Lot (behind Stony Brook T station,
  across from Kelley Rink)
WEBSITE:http://www.servings.org
URL:http://www.servings.org
CONTACT:617-522-7777
ORGANIZER;CN="Edith Murnane":http://neighborsforneighbors.org/profile/
 EdithMurnane
ATTACH;FMTTYPE="image/jpeg":http://storage.ning.com/topology/rest/1.0/
 file/get/2245130253?profile=original
ATTENDEE;ROLE=REQ-PARTICIPANT;PARTSTAT=ACCEPTED;RSVP=TRUE;CN="Joseph P
 orcelli (Chief Neighbor)":http://neighborsforneighbors.org/profile/jos
 ephporcelli
ATTENDEE;ROLE=REQ-PARTICIPANT;PARTSTAT=ACCEPTED;RSVP=TRUE;CN="Edith Mu
 rnane":http://neighborsforneighbors.org/profile/EdithMurnane
END:VEVENT
END:VCALENDAR
