BEGIN:VCALENDAR
PRODID:NingEventWidget-v1
VERSION:2.0
METHOD:PUBLISH
BEGIN:VEVENT
UID:1171189:Event:49234
DTSTAMP:20260421T171650Z
SUMMARY:Compost Party
DESCRIPTION:Come to a free Compost Party hosted by the Sheridan/Cranst
 on/Termine Green Block!\n\nSee a 17-minute video “Home Composting 
  Turning Your Spoils to Soil.” Meet experienced composters and shar
 e your ideas for fruitful composting. Check out the host’s compost b
 ins and get up close and personal with some “red wrigglers,” the t
 ype of worm that’s used in worm composting. Take home your own worms
  to start your own worm bin.\n\nMonday, July 26\n\nfrom 7 to 8:30 pm\n
 \n79 Sheridan Street, Jamaica Plain\n\nRefreshments will be served!\nS
 ponsored by the Cool JP committee of Boston Climate Action Network\n\n
 RSVP to 857-544-6846\n\nFor more information visit http://neighborsfor
 neighbors.org/events/compost-party
DTSTART:20100726T230000Z
DTEND:20100727T003000Z
CATEGORIES:social, "&", educational
LOCATION:Sheridan/Cranston/Termine neighborhood
WEBSITE:
URL:
CONTACT:857-544-6846
ORGANIZER:Sheridan/Cranston/Termine Green Block
ATTACH;FMTTYPE="image/jpeg":
ATTENDEE;ROLE=REQ-PARTICIPANT;PARTSTAT=ACCEPTED;RSVP=TRUE;CN=Nora:http
 ://neighborsforneighbors.org/profile/Nora
ATTENDEE;ROLE=REQ-PARTICIPANT;PARTSTAT=ACCEPTED;RSVP=TRUE;CN="Loie Hay
 es":http://neighborsforneighbors.org/profile/LoieHayes
END:VEVENT
END:VCALENDAR
