BEGIN:VCALENDAR
PRODID:NingEventWidget-v1
VERSION:2.0
METHOD:PUBLISH
BEGIN:VEVENT
UID:1171189:Event:97215
DTSTAMP:20260422T001514Z
SUMMARY:Connecting for justice
DESCRIPTION:Meet like-minded progres\nLir Irish Pub\n903 Boylston St, 
 Boston, MA 02115\nsives at Connecting for Justice on May 23 from 6-8:3
 0PM at Lir Irish Pub and get connected to great social justice organiz
 ations in Boston. Have you been lurking on SoJust? It’s time to meet
  the friendly faces of the group that’s grown to almost 2250 members
 , hosted 150+ events and fostered hundreds of connections since our fo
 unding almost 7 years ago.\nSoJust is all about building a cross-issue
  progressive community and network in Boston. We're doing it by puttin
 g the SOCIAL back in SOCIAL JUSTICE. We focus on creating welcoming sp
 aces that foster relationship-building across issue silos. Join us if 
 you are ready to go BEYOND ALLIES and build a CROSS-ISSUE PROGRESSIVE 
 MOVEMENT.\nRSVP at http://www.sojust.org (our main website) and view M
 ember Profiles, Message Board and Calendar of Progressive Events.\nCos
 t: $5-$20 collected at the door. Newcomers always welcomed! (every $10
  includes raffle ticket for a $25 Trader Joe's gift card)Complimentary
  appetizers will be provided.\nThis is not a meeting - it's a fun netw
 orking social!No Program. No Speaker. Just Us. For Justice.\nAs always
  we'll help you meet people - so no worries if you're new to SoJust, p
 lus we'll have \"I'M LOOKING FOR\" and \"ASK ME ABOUT\" tags at our CO
 NNECTIONS CORNER, which is staffed by our amazing STARZ (regular atten
 dees). We'll also have our wildly popular JOBS BOARD and ACTION STATIO
 NS to make it even more likely you'll make the right connections.\nWan
 t to cross-promote your events and campaigns? Are you new to the area 
 and looking for groups to get involved in? Are you psyched about build
 ing strong cross-issue coalitions? Join us!\nYES, WE MEAN YOU. Members
  are all ages, races, genders, sexual orientations, levels of activism
  and professions. \nHEY ORGANIZERS! If you're involved with a group o
 r project and want to spread the word bring flyers for the free lit ta
 ble. ACTION STATIONS - if you have an action that can be done in 2 min
 utes (sign a petition) or within 2 weeks of the event (attend rally, s
 tuff mass mailing) bring it so SoJusters can get connected to you and 
 your work. Email robbie@robbiesamuels.com for more information about t
 he Action Stations.\nACCESSIBILITY: 18+, must be 21+ to enter after 7P
 M. The venue is physically accessible - please note that the elevator 
 is at the rear of the first floor and we've been told that bathrooms a
 re big enough for manual, but not large motor-powered, wheelchairs.PAR
 KING: Lir is across from the Hynes Convention Center. Parking near Lir
  is really hard - you could get lucky or you could drive around for 30
  or more minutes. There are parking garages by Back Bay station. Best 
 bet is to take the T to Back Bay or Hynes Convention Center (which is 
 the closest T stop).Help spread the word!Invite your friends to the fa
 cebook event: http://bit.ly/SoJust-5-23Join the SoJust Facebook group:
  http://on.fb.me/SoJust On Twitter? Follow @SoJust http://www.twitter.
 com/sojust and SoJust's Co-Founder @RobbieSamuels http://www.twitter.c
 om/robbiesamuels #SoJust\nSocializing for Justice is not a non-profit 
 501(c)(3) and receives no outside funding.We have over 2250 members, w
 e have hosted 150+ events and we manage an online hub of progressive e
 vents and resources at http://www.sojust.org\n\nFor more information v
 isit http://neighborsforneighbors.org/events/connecting-for-justice-2
DTSTART:20130523T220000Z
DTEND:20130524T003000Z
CATEGORIES:networking
LOCATION:903 Boylston St, Boston, MA 02115
WEBSITE:
URL:
CONTACT:
ORGANIZER;CN="Socializing for Justice":http://neighborsforneighbors.or
 g/profile/SocializingforJustice71
ATTACH;FMTTYPE="image/jpeg":
ATTENDEE;ROLE=REQ-PARTICIPANT;PARTSTAT=ACCEPTED;RSVP=TRUE;CN="Socializ
 ing for Justice":http://neighborsforneighbors.org/profile/Socializingf
 orJustice71
END:VEVENT
END:VCALENDAR
