BEGIN:VCALENDAR
PRODID:NingEventWidget-v1
VERSION:2.0
METHOD:PUBLISH
BEGIN:VEVENT
UID:1171189:Event:59982
DTSTAMP:20260421T183733Z
SUMMARY:Connecting for Justice (Open House)
DESCRIPTION:Did you resolve to “do more good” in the world? Join S
 ocializing for Justice and make your New Year’s resolution count thi
 s year!\n\nMeet like-minded progressives at Connecting for Justice on 
 January 27 from 6-9PM at Lir Irish Pub and get connected to great soci
 al justice organizations in Boston. Have you been lurking on SoJust? I
 t’s time to meet the friendly faces of the group that’s grown to a
 lmost 1600 members, hosted 85+ events and fostered hundreds of connect
 ions since our founding 4 years ago.\n\nJoin us if you are ready to go
  BEYOND ALLIES and build a CROSS-ISSUE PROGRESSIVE MOVEMENT.\n\nRSVP a
 t www.sojust.org (our main website) and view Member Profiles, Message 
 Board and Calendar of Progressive Events. Newcomers always welcomed!\n
 \nCost: $2-$10 collected at the door\n\nThis is not a meeting - it's a
  fun networking social!\nNo Program. No Speaker. Just Us. For Justice.
 \n\nAs always we'll help you meet people - so no worries if you're new
  to SoJust, plus we'll have \"I’m Looking For\" and \"Ask Me About\"
  tags, a Catalyst Corner staffed by our amazing STARZ (regular attende
 es), our wildly popular Jobs Board and Action Stations to make it even
  more likely you'll find the right connections.\n\nWant to cross-promo
 te your events and campaigns? Looking for like-minded progressives to 
 hang out with in Boston? Are you new to the area and looking for group
 s to get involved in? Are you psyched about building strong cross-issu
 e coalitions? Join us!\n\nYES, WE MEAN YOU. Members are all ages, race
 s, genders, sexual orientations, levels of activism and professions. S
 ome just moved to Boston and others were born here. We hope you see so
 meone like yourself and meet someone you otherwise wouldn't have.\n\nH
 EY ORGANIZERS! If you're involved with a group or project and want to 
 spread the word bring flyers for the free lit table. ACTION STATIONS -
  if you have an action that can be done in 2 minutes (sign a petition)
  or within 2 weeks of the event (attend rally, stuff mass mailing) bri
 ng it so SoJusters can get connected to you and your work. This is not
  a typical tabling event, there'll be lots of opportunity to schmooze 
 and network! Email robbie@sojust.org for more information about the Ac
 tion Stations.\n\n*The venue is open to anyone over 18 (must be 21+ to
  enter after 7PM) and is physically accessible - elevator is at the ba
 ck of the venue. Lir is across from the Hynes Convention Center.\n\nHe
 lp spread the word!\nInvite your friends to the facebook event: http:/
 /www.facebook.com/event.php?eid=180796458603130\nJoin the SoJust Faceb
 ook group: \"http://www.facebook.com/group.php?gid=8770189934\nOn Twit
 ter? Follow @SoJust and SoJust's Co-Founder @RobbieSamuels\n__________
 ______________________________\nSocializing for Justice -www.sojust.or
 g\nSoJust is all about building a progressive cross-issue community, n
 etwork and movement. We're doing it by putting the SOCIAL back in SOCI
 AL JUSTICE. We focus on creating welcoming spaces that foster relation
 ship-building across issue silos. SoJust is NOT a non-profit 501(c)(3)
 , we are a volunteer-run, member-driven, grassroots organization. We m
 ay seem like just another liberal social group but get involved to fin
 d out what we can create together.\n\nWanna know more about SoJust? Ch
 eck out our Frequently Asked Questions and Event Photos.\n\nFor more i
 nformation visit http://neighborsforneighbors.org/events/connecting-fo
 r-justice-open-1
DTSTART:20110127T230000Z
DTEND:20110128T020000Z
CATEGORIES:networking, social, meetup
LOCATION:Lir Irish Pub & Restaurant
WEBSITE:http://www.lironboylston.com/
URL:http://www.lironboylston.com/
CONTACT:
ORGANIZER:Socializing for Justice
ATTACH;FMTTYPE="image/jpeg":http://storage.ning.com/topology/rest/1.0/
 file/get/2245131878?profile=original
ATTENDEE;ROLE=REQ-PARTICIPANT;PARTSTAT=ACCEPTED;RSVP=TRUE;CN=Alison:ht
 tp://neighborsforneighbors.org/profile/Alison
ATTENDEE;ROLE=REQ-PARTICIPANT;PARTSTAT=ACCEPTED;RSVP=TRUE;CN="Robin Bz
 ura":http://neighborsforneighbors.org/profile/RobinBzura
END:VEVENT
END:VCALENDAR
