BEGIN:VCALENDAR
PRODID:NingEventWidget-v1
VERSION:2.0
METHOD:PUBLISH
BEGIN:VEVENT
UID:1171189:Event:86853
DTSTAMP:20260421T182122Z
SUMMARY:Connecting for Justice (Open House)
DESCRIPTION:Meet like-minded progressives and get connected to great s
 ocial justice organizations in Boston. Haven't been to a Socializing f
 or Justice event? It’s time to meet the friendly faces of the group 
 that’s grown to over 1800 members, hosted 110+ events and fostered h
 undreds of connections since our founding 5+ years ago.\n\nJoin us at 
 Lir Irish Pub & Restaurant, 903 Boylston St in Boston, from 6:00 pm on
  Thursday, January 19th, if you are ready to go BEYOND ALLIES and buil
 d a CROSS-ISSUE PROGRESSIVE MOVEMENT.\n\nRSVP at http://www.sojust.org
  - Newcomers always welcomed!\n\nCost: $2-$10 collected at the door.\n
 ($10 includes raffle ticket for a $20 Trader Joe's gift card)\n\nTHIS 
 IS NOT A MEETING - IT'S A FUN NETWORKING SOCIAL!\nNo Program. No Speak
 er. Just Us. For Justice.\n\nAs always we'll help you meet people - so
  no worries if you're new to SoJust, plus we'll have \"I'M LOOKING FOR
 \" and \"ASK ME ABOUT\" tags, a CATALYST CORNER staffed by our amazing
  STARZ (regular attendees), our wildly popular JOBS BOARD and ACTION S
 TATIONS to make it even more likely you'll find the right connections.
 \n\nWANT TO CROSS-PROMOTE YOUR EVENTS AND CAMPAIGNS? Find out more on 
 http://sojust.org\n\nYES, WE MEAN YOU. Members are all ages, races, ge
 nders, sexual orientations, levels of activism and professions. Some j
 ust moved to Boston and others were born here. We hope you see someone
  like yourself and meet someone you otherwise wouldn't have.\n\nHEY OR
 GANIZERS! If you're involved with a group or project and want to sprea
 d the word bring flyers for the free lit table. ACTION STATIONS - if y
 ou have an action that can be done in 2 minutes (sign a petition) or w
 ithin 2 weeks of the event (attend rally, stuff mass mailing) bring it
  so SoJusters can get connected to you and your work. This is not a ty
 pical tabling event, there'll be lots of opportunity to schmooze and n
 etwork! Email robbie@sojust.org for more information about the Action 
 Stations.\n\n*The venue is open to anyone over 18 (must be 21+ to ente
 r after 7PM) and is partially physically accessible - elevator is at t
 he back of the venue and bathrooms are big enough for manual, but not 
 motor-powered, wheelchairs. Lir is across from the Hynes Convention Ce
 nter. Parking near Lir is really hard - you could get lucky or you cou
 ld drive around for 30 or more minutes. There are parking garages by B
 ack Bay station. Best bet is to take the T to Back Bay or Hynes Conven
 tion Center (which is the closest T stop).\n\nHELP SPREAD THE WORD!\nI
 nvite your friends to this facebook event: http://on.fb.me/tEPoXU\nJoi
 n the SoJust Facebook group: http://on.fb.me/SoJust\nOn Twitter? Follo
 w http://twitter.com/sojust and SoJust's Co-Founder http://twitter.com
 /robbiesamuels and tweet about this event using #SoJust\n_____________
 ____________________________________________\nSocializing for Justice 
 - http://www.sojust.org\nSince 2006, we've been building this great sa
 ndbox where we can bring progressives of all stripes together and try 
 out new ideas in this \"Movement Moment\". Spaces like this are crucia
 l as we start to reframe and build new visions for our movement(s).\n\
 nWith 1800+ members and 5 years of creating a diverse cross-issue comm
 unity in Boston (110+ events!), Socializing for Justice is the best pl
 ace to find the great people, organizations and community you're looki
 ng for while putting the SOCIAL back in social justice.\n\nWant to kno
 w more about SoJust? Check out our Frequently Asked Questions and past
  event photos on http://www.sojust.org!\n\n\n\nFor more information vi
 sit http://neighborsforneighbors.org/events/connecting-for-justice-ope
 n-house
DTSTART:20120119T230000Z
DTEND:20120120T020000Z
CATEGORIES:networking, social
LOCATION:Lir on Boylston
WEBSITE:http://maps.google.com/maps?client=safari&rls=en&q=903+boylsto
 n+street+boston+ma&oe=UTF-8&um=1&ie=UTF-8&ei=uEriTvGIBend0QHNxoTtBQ&sa
 =X&oi=mode_link&ct=mode&cd=3&ved=0CAoQ_AUoAg
URL:http://maps.google.com/maps?client=safari&rls=en&q=903+boylston+st
 reet+boston+ma&oe=UTF-8&um=1&ie=UTF-8&ei=uEriTvGIBend0QHNxoTtBQ&sa=X&o
 i=mode_link&ct=mode&cd=3&ved=0CAoQ_AUoAg
CONTACT:
ORGANIZER;CN="Socializing for Justice":http://neighborsforneighbors.or
 g/profile/SocializingforJustice71
ATTACH;FMTTYPE="image/jpeg":
ATTENDEE;ROLE=REQ-PARTICIPANT;PARTSTAT=ACCEPTED;RSVP=TRUE;CN="Socializ
 ing for Justice":http://neighborsforneighbors.org/profile/Socializingf
 orJustice71
END:VEVENT
END:VCALENDAR
