BEGIN:VCALENDAR
PRODID:NingEventWidget-v1
VERSION:2.0
METHOD:PUBLISH
BEGIN:VEVENT
UID:1171189:Event:43562
DTSTAMP:20260421T045637Z
SUMMARY:Connecting for Justice (Open House)
DESCRIPTION:What may seem like just another liberal social group is re
 ally the start of a revolution. What can we create together? Find out 
 by meeting like-minded progressives at Connecting for Justice - one of
  SoJust's biggest events of the year.\n\nRSVP @ www.sojust.org.\n\nAs 
 always we'll help you meet people - so no worries if you're new to SoJ
 ust, plus we'll have \"looking for\" and \"ask me about\" tags, a Cata
 lyst Corner staffed by our amazing STARZ (regular attendees) and Actio
 n Stations to make it even more likely you'll find the right connectio
 ns.\n\nArrive early! Dance Party starts at 8pm\nWith deep respect for 
 Emma Goldman, who said, \"If I can't dance, I don't want to be part of
  your revolution.\" We're changing things up this time and hosting a D
 ance Party from 8-9 after 2 awesome hours from 6-8pm of building and s
 trengthening relationships.\n\nWant to cross-promote your events and c
 ampaigns? Looking for like-minded progressives to hang out with in Bos
 ton? Are you new to the area and looking for groups to get involved in
 ? Are you psyched about building strong cross-issue coalitions? Join u
 s if you are ready to go BEYOND ALLIES and build a CROSS-ISSUE PROGRES
 SIVE MOVEMENT.\n\nYES, WE MEAN YOU. Members are all ages, races, gende
 rs, sexual orientations, levels of activism and professions. We hope y
 ou see someone like yourself and meet someone you otherwise wouldn't h
 ave.\n\nHEY ORGANIZERS! If you're involved with a group or project and
  want to spread the word bring flyers for the free lit table. New this
  event: ACTION STATIONS - if you have an action that can be done in 2 
 minutes (sign a petition) or within 2 weeks of the event (attend rally
 , stuff mass mailing) bring it so SoJusters can get connected to you a
 nd your work. This is not a typical tabling event there'll be lots of 
 opportunity to schmooze and network!\n\n*The venue is open to anyone o
 ver 18 and is wheelchair accessible - elevator is at the back of the v
 enue. Lir is across from the Hynes Convention Center.\n\nFor more info
 rmation visit http://neighborsforneighbors.org/events/connecting-for-j
 ustice-open
DTSTART:20100520T220000Z
DTEND:20100521T010000Z
CATEGORIES:connecting, networking
LOCATION:Lir Irish Pub & Restaurant
WEBSITE:http://www.sojust.org
URL:http://www.sojust.org
CONTACT:
ORGANIZER;CN=Alison:http://neighborsforneighbors.org/profile/Alison
ATTACH;FMTTYPE="image/jpeg":http://storage.ning.com/topology/rest/1.0/
 file/get/2245130050?profile=original
ATTENDEE;ROLE=REQ-PARTICIPANT;PARTSTAT=ACCEPTED;RSVP=TRUE;CN="Joseph P
 orcelli (Chief Neighbor)":http://neighborsforneighbors.org/profile/jos
 ephporcelli
ATTENDEE;ROLE=REQ-PARTICIPANT;PARTSTAT=ACCEPTED;RSVP=TRUE;CN="Robbie S
 amuels":http://neighborsforneighbors.org/profile/RobbieSamuels
ATTENDEE;ROLE=REQ-PARTICIPANT;PARTSTAT=ACCEPTED;RSVP=TRUE;CN=Alison:ht
 tp://neighborsforneighbors.org/profile/Alison
END:VEVENT
END:VCALENDAR
