BEGIN:VCALENDAR
PRODID:NingEventWidget-v1
VERSION:2.0
METHOD:PUBLISH
BEGIN:VEVENT
UID:1171189:Event:93198
DTSTAMP:20260421T203900Z
SUMMARY:Connecting for Justice (@SoJust Open House)
DESCRIPTION:Meet like-minded progressives and get connected to great s
 ocial justice organizations in Boston. Haven't been to a Socializing f
 or Justice event? It’s time to meet the friendly faces of the group 
 that’s grown to 2200 members, hosted 145+ events and fostered hundre
 ds of connections since our founding 6 years ago.Join us if you are re
 ady to go BEYOND ALLIES and build a CROSS-ISSUE PROGRESSIVE MOVEMENT.J
 anuary 31st, 20136-9pmLir Irish Pub & Restaurant903 Boylston St, Bosto
 n, MARSVP at http://www.sojust.org - Newcomers always welcomed!Cost: $
 5-$20 collected at the door. Newcomers always welcomed!(every $10 incl
 udes raffle ticket for a $25 Trader Joe’s gift card)Complimentary ap
 petizers will be provided.THIS IS NOT A MEETING - IT'S A FUN NETWORKIN
 G SOCIAL!No Program. No Speaker. Just Us. For Justice.As always we'll 
 help you meet people - so no worries if you're new to SoJust, plus we'
 ll have \"I'M LOOKING FOR\" and \"ASK ME ABOUT\" tags, a CATALYST CORN
 ER staffed by our amazing STARZ (regular attendees), our wildly popula
 r JOBS BOARD and ACTION STATIONS to make it even more likely you'll fi
 nd the right connections.WANT TO CROSS-PROMOTE YOUR EVENTS AND CAMPAIG
 NS? Looking for like-minded progressives to hang out with in Boston? A
 re you new to the area and looking for groups to get involved in? Are 
 you psyched about building strong cross-issue coalitions? Join us!YES,
  WE MEAN YOU. Members are all ages, races, genders, sexual orientation
 s, levels of activism and professions. Some just moved to Boston and o
 thers were born here. We hope you see someone like yourself and meet s
 omeone you otherwise wouldn't have.HEY ORGANIZERS! If you're involved 
 with a group or project and want to spread the word bring flyers for t
 he free lit table. ACTION STATIONS - if you have an action that can be
  done in 2 minutes (sign a petition) or within 2 weeks of the event (a
 ttend rally, stuff mass mailing) bring it so SoJusters can get connect
 ed to you and your work. This is not a typical tabling event, there'll
  be lots of opportunity to schmooze and network! Email robbie@sojust.o
 rg for more information about the Action Stations.*The venue is open t
 o anyone over 18 (must be 21+ to enter after 7PM) and is partially phy
 sically accessible - elevator is at the back of the venue and bathroom
 s are big enough for manual, but not motor-powered, wheelchairs. Lir i
 s across from the Hynes Convention Center. Parking near Lir is really 
 hard - you could get lucky or you could drive around for 30 or more mi
 nutes. There are parking garages by Back Bay station. Best bet is to t
 ake the T to Back Bay or Hynes Convention Center (which is the closest
  T stop).HELP SPREAD THE WORD!Invite your friends to this facebook eve
 nt: http://bit.ly/sojustjan31Join the SoJust Facebook group: http://on
 .fb.me/SoJustOn Twitter? Follow @SoJust (http://www.twitter.com/sojust
 ) and SoJust's Co-Founder @RobbieSamuels (http://www.twitter.com/robbi
 esamuels).Don’t forget to tweet about this event using #sojust!_____
 ____________________________________________________Socializing for Ju
 stice - http://www.sojust.orgSoJust is all about building a cross-cult
 ural, cross-issue progressive community, network and movement in Bosto
 n. We're doing it by putting the SOCIAL back in SOCIAL JUSTICE. We foc
 us on creating welcoming spaces that foster relationship-building acro
 ss issue silos.Want to know more about SoJust? Check out our Frequentl
 y Asked Questions- http://www.sojust.org/messages/boards/thread/318761
 5- and past event photos- http://www.sojust.org/photos/!\n\nFor more i
 nformation visit http://neighborsforneighbors.org/events/connecting-fo
 r-justice-sojust-open-house
DTSTART:20130131T230000Z
DTEND:20130201T013000Z
CATEGORIES:open, house, networking, event, social
LOCATION:Lir Irish Pub and Restaurant
WEBSITE:http://www.sojust.org/events/91627292/
URL:http://www.sojust.org/events/91627292/
CONTACT:
ORGANIZER;CN="Socializing for Justice":http://neighborsforneighbors.or
 g/profile/SocializingforJustice71
ATTACH;FMTTYPE="image/jpeg":http://storage.ning.com/topology/rest/1.0/
 file/get/2245140143?profile=original
ATTENDEE;ROLE=REQ-PARTICIPANT;PARTSTAT=ACCEPTED;RSVP=TRUE;CN="Socializ
 ing for Justice":http://neighborsforneighbors.org/profile/Socializingf
 orJustice71
END:VEVENT
END:VCALENDAR
