BEGIN:VCALENDAR
PRODID:NingEventWidget-v1
VERSION:2.0
METHOD:PUBLISH
BEGIN:VEVENT
UID:1171189:Event:90144
DTSTAMP:20260421T230253Z
SUMMARY:Connecting for Justice
DESCRIPTION:Meet like-minded progressives and get connected to great s
 ocial justice organizations in Boston. Haven't been to a Socializing f
 or Justice event? It’s time to meet the friendly faces of the group 
 that’s grown to over 2000 members, hosted 115+ events and fostered h
 undreds of connections since our founding 5 1/2 years ago.Join us if y
 ou are ready to go BEYOND ALLIES and build a CROSS-ISSUE PROGRESSIVE M
 OVEMENT.RSVP at http://www.sojust.org - Newcomers always welcomed!Cost
 : $5-$20 collected at the door. Newcomers always welcomed!(every $10 i
 ncludes raffle ticket for a $25 iTune's gift card)Complimentary appeti
 zers will be provided.THIS IS NOT A MEETING - IT'S A FUN NETWORKING SO
 CIAL!No Program. No Speaker. Just Us. For Justice.As always we'll help
  you meet people - so no worries if you're new to SoJust, plus we'll h
 ave \"I'M LOOKING FOR\" and \"ASK ME ABOUT\" tags, a CATALYST CORNER s
 taffed by our amazing STARZ (regular attendees), our wildly popular JO
 BS BOARD and ACTION STATIONS to make it even more likely you'll find t
 he right connections.WANT TO CROSS-PROMOTE YOUR EVENTS AND CAMPAIGNS? 
 Looking for like-minded progressives to hang out with in Boston? Are y
 ou new to the area and looking for groups to get involved in? Are you 
 psyched about building strong cross-issue coalitions? Join us!YES, WE 
 MEAN YOU. Members are all ages, races, genders, sexual orientations, l
 evels of activism and professions. Some just moved to Boston and other
 s were born here. We hope you see someone like yourself and meet someo
 ne you otherwise wouldn't have.HEY ORGANIZERS! If you're involved with
  a group or project and want to spread the word bring flyers for the f
 ree lit table. ACTION STATIONS - if you have an action that can be don
 e in 2 minutes (sign a petition) or within 2 weeks of the event (atten
 d rally, stuff mass mailing) bring it so SoJusters can get connected t
 o you and your work. This is not a typical tabling event, there'll be 
 lots of opportunity to schmooze and network! Email robbie@sojust.org f
 or more information about the Action Stations.*The venue is open to an
 yone over 18 (must be 21+ to enter after 7PM) and is partially physica
 lly accessible - elevator is at the back of the venue and bathrooms ar
 e big enough for manual, but not motor-powered, wheelchairs. Lir is ac
 ross from the Hynes Convention Center. Parking near Lir is really hard
  - you could get lucky or you could drive around for 30 or more minute
 s. There are parking garages by Back Bay station. Best bet is to take 
 the T to Back Bay or Hynes Convention Center (which is the closest T s
 top).HELP SPREAD THE WORD!Invite your friends to this facebook event: 
 http://www.facebook.com/events/270693703008431/Join the SoJust Faceboo
 k group: http://on.fb.me/SoJustOn Twitter? Follow @SoJust (http://www.
 twitter.com/sojust), SoJust's Co-Founder @RobbieSamuels (http://www.tw
 itter.com/robbiesamuels) and our Organizer Intern @KatyaM11 (http://ww
 w.twitter.com/KatyaM11).Don’t forget to tweet about this event using
  #sojust!_______________________________________________________\n\nFo
 r more information visit http://neighborsforneighbors.org/events/conne
 cting-for-justice
DTSTART:20120524T220000Z
DTEND:20120525T010000Z
CATEGORIES:social, dating, happy, hour, networking
LOCATION:Lir Irish Pub & Restaurant
WEBSITE:http://www.sojust.org
URL:http://www.sojust.org
CONTACT:
ORGANIZER;CN="Socializing for Justice":http://neighborsforneighbors.or
 g/profile/SocializingforJustice71
ATTACH;FMTTYPE="image/jpeg":http://storage.ning.com/topology/rest/1.0/
 file/get/2245138156?profile=original
ATTENDEE;ROLE=REQ-PARTICIPANT;PARTSTAT=ACCEPTED;RSVP=TRUE;CN="Socializ
 ing for Justice":http://neighborsforneighbors.org/profile/Socializingf
 orJustice71
END:VEVENT
END:VCALENDAR
