BEGIN:VCALENDAR
PRODID:NingEventWidget-v1
VERSION:2.0
METHOD:PUBLISH
BEGIN:VEVENT
UID:1171189:Event:27246
DTSTAMP:20260422T010834Z
SUMMARY:Conversation with Artist Terry Boutelle
DESCRIPTION:Join Terry Boutelle for a free talk at the Arnold Arboretu
 m. Terry will discuss her work and her process.Initially inspired by b
 irch trees in the Arboretum, Boutelle has moved beyond realism into ps
 ychological and emotional realms. Using mixed media such as acrylic, p
 astel, wax, and plaster, and often incorporating natural objects such 
 as leaves, twigs, and seeds, she creates paintings that are at times r
 ichly textured and at other times, smooth and veiled.\n\nFor more info
 rmation visit http://neighborsforneighbors.org/events/conversation-wit
 h-artist-terry
DTSTART:20090813T223000Z
DTEND:20090814T000000Z
CATEGORIES:free, talk
LOCATION:Arnold Arboretum, Hunnewell Building
WEBSITE:http://arboretum.harvard.edu/visitors/art_shows.html
URL:http://arboretum.harvard.edu/visitors/art_shows.html
CONTACT:617-384-5209
ORGANIZER;CN="Marc Devokaitis":http://neighborsforneighbors.org/profil
 e/MarcDevokaitis
ATTACH;FMTTYPE="image/jpeg":http://storage.ning.com/topology/rest/1.0/
 file/get/2245118923?profile=original
ATTENDEE;ROLE=REQ-PARTICIPANT;PARTSTAT=ACCEPTED;RSVP=TRUE;CN="Marc Dev
 okaitis":http://neighborsforneighbors.org/profile/MarcDevokaitis
END:VEVENT
END:VCALENDAR
