BEGIN:VCALENDAR
PRODID:NingEventWidget-v1
VERSION:2.0
METHOD:PUBLISH
BEGIN:VEVENT
UID:1171189:Event:89666
DTSTAMP:20260421T195500Z
SUMMARY:Create Your Own Freak Flag for the Wake Up the Earth Parade
DESCRIPTION:Freedom, Fun and Creativity all rolled up in one juicy goo
 d time!\nCome create your very own freak flag so you can expereince th
 e freedom that comes with owning your You-ness.\nI'm conspiring to bri
 ng freak flags to Wake Up the Earth in a big way, and I’d love for y
 ou to be part of it. I’m hosting a pre- Wake up the Earth  freak fl
 ag workshop for people to come make freak flags to carry in the WUTE k
 ick-off parade.\nI’ll have some materials there and lots of guidance
  for making your very own freak flag to carry in the parade. I suggest
  bringing extra items to pimp out your flag and make it unique. (Lace,
  bells, pictures, sparkles, tassels, you get the idea)\n\n\nFor more i
 nformation visit http://neighborsforneighbors.org/events/create-your-o
 wn-freak-flag-for-the-wake-up-the-earth-parade
DTSTART:20120501T230000Z
DTEND:20120502T020000Z
CATEGORIES:free, workshop
LOCATION:Spontaneous Celebrations
WEBSITE:http://www.defythebox.com/wute/
URL:http://www.defythebox.com/wute/
CONTACT:617-524-0967
ORGANIZER;CN="Leah Shapiro / DefytheBox.com":http://neighborsforneighb
 ors.org/profile/LeahShapiro
ATTACH;FMTTYPE="image/jpeg":http://storage.ning.com/topology/rest/1.0/
 file/get/2245140040?profile=original
ATTENDEE;ROLE=REQ-PARTICIPANT;PARTSTAT=ACCEPTED;RSVP=TRUE;CN="Leah Sha
 piro / DefytheBox.com":http://neighborsforneighbors.org/profile/LeahSh
 apiro
END:VEVENT
END:VCALENDAR
