BEGIN:VCALENDAR
PRODID:NingEventWidget-v1
VERSION:2.0
METHOD:PUBLISH
BEGIN:VEVENT
UID:1171189:Event:42902
DTSTAMP:20260421T220620Z
SUMMARY:Creating your own Compost, Wormbin & Rain Barrel
DESCRIPTION:Do you ever wish that you could stop throwing away your ki
 tchen scraps, and instead use them for something useful? Or, that you 
 could water your garden with all of the valuable rainwater that runs o
 ff your roof? Join us at this Sustainability Series workshop where we 
 will surprise you with how easy it is to create your own compost syste
 m, wormbin, and rain barrel. Wake up the earth by exploring these thre
 e sustainable systems that can make your urban lifestyle a little more
  green. Compost and rain barrel kits will be available for purchase.\n
 \nCo-sponsored by the Boston Building Materials Coop\n\nFor more infor
 mation visit http://neighborsforneighbors.org/events/creating-your-own
 -compost
DTSTART:20100507T230000Z
DTEND:20100508T010000Z
CATEGORIES:discussion
LOCATION:First Church in Jamaica Plain UU, 6 Eliot Street (Across from
  the monument)
WEBSITE:
URL:
CONTACT:
ORGANIZER;CN="Liz W.":http://neighborsforneighbors.org/profile/LizW
ATTACH;FMTTYPE="image/jpeg":http://storage.ning.com/topology/rest/1.0/
 file/get/2245127251?profile=original
ATTENDEE;ROLE=REQ-PARTICIPANT;PARTSTAT=ACCEPTED;RSVP=TRUE;CN="Liz W.":
 http://neighborsforneighbors.org/profile/LizW
END:VEVENT
END:VCALENDAR
