BEGIN:VCALENDAR
PRODID:NingEventWidget-v1
VERSION:2.0
METHOD:PUBLISH
BEGIN:VEVENT
UID:1171189:Event:88053
DTSTAMP:20260421T200619Z
SUMMARY:Criminal Injustice: 3-Strikes-You're Out coming to Mass.?
DESCRIPTION:Panel with Discussion , featuring  Nancy Gertner,former J
 udge,  U.S. District Court Massachusetts,, Jamahrl Crawford, Occupy t
 he Hood Boston/the Blackstonian,  and State Representative Liz Malia.
  Moderated by Ben Thompson, Exec. Director, Criminal Justice Policy Co
 alition Other state legislators in attendance. Questions, discussion 
 follow.Come learn and share!\n\nFor more information visit http://neig
 hborsforneighbors.org/events/criminal-injustice-3-strikes-you-re-out-c
 oming-to-mass
DTSTART:20120128T000000Z
DTEND:20120128T020000Z
CATEGORIES:forum, and, "discussion/new", "mass.", law
LOCATION:First Church,at the Monument,Centre/South St..,J.P.
WEBSITE:http://jamaicaplainforum.org/
URL:http://jamaicaplainforum.org/
CONTACT:617-522-4634 or  (617)477-8630,ext.301
ORGANIZER:Jamaica Plain Forum/Hope Haff
ATTACH;FMTTYPE="image/jpeg":
ATTENDEE;ROLE=REQ-PARTICIPANT;PARTSTAT=ACCEPTED;RSVP=TRUE;CN="Hope Haf
 f":http://neighborsforneighbors.org/profile/HopeHaff
END:VEVENT
END:VCALENDAR
