BEGIN:VCALENDAR
PRODID:NingEventWidget-v1
VERSION:2.0
METHOD:PUBLISH
BEGIN:VEVENT
UID:1171189:Event:114362
DTSTAMP:20260421T204143Z
SUMMARY:CWE’s 2015 Women-Owned Business Challenge (a New England Pit
 ch Competition)
DESCRIPTION:Win a $10,000 prize package to grow your business!\nThe 20
 15 CWE Women-Owned Business Challenge is a New England business pitch 
 competition designed to promote female entrepreneurship and the advanc
 ement of early-stage and growing women-owned businesses in New England
 .\n APPLICATIONS ACCEPTED till August 14, 2015!  \n \nThere are two 
 (2) Tracks in this competition:\n\n“START” Track: open to any earl
 y-stage, for-profit women-owned business generating gross revenues fro
 m $0-$50,000 in 2014.\n\n“GROW” Track: open to any existing for-pr
 ofit women-owned business generating gross revenues from $50,000-$500,
 000 in 2014.\n\n\nPlease visit www.cweonline.org/2015Challenge for com
 plete details of rules and requirements. Non-Refundable Application Fe
 e:  $50\n \nTen (10) finalists (5 from each track) will be selected 
 to receive coaching to help them prepare for final presentations which
  will take place on Thursday, October 22, 2015 at 9th Annual CWE Wome
 n Business Leaders Conference at the Sheraton Framingham, MA. \nFor 
 more information about CWE Women-Owned Business Challenge (a New Engla
 nd Pitch Competition) please visit: www.cweonline.org/2015Challenge or
  contact 2015Challenge@cweonline.org\n                
             \nFor more information about CWE 9th Annual Wo
 men Business Leaders Conference, New England’s premier educational a
 nd networking event for women business leaders and supplier diversity 
 professionals, please check out: www.cweonline.org/WBLC.\n \n\n\nFor 
 more information visit http://neighborsforneighbors.org/events/cwe-s-2
 015-women-owned-business-challenge-a-new-england-pitch
DTSTART:20150629T220000Z
DTEND:20150814T210000Z
CATEGORIES:pitch, competition
LOCATION:Online
WEBSITE:http://www.cweonline.org/2015Challenge
URL:http://www.cweonline.org/2015Challenge
CONTACT:
ORGANIZER:Center for Women and Enterprise (CWE)
ATTACH;FMTTYPE="image/jpeg":http://storage.ning.com/topology/rest/1.0/
 file/get/2245142921?profile=original
ATTENDEE;ROLE=REQ-PARTICIPANT;PARTSTAT=ACCEPTED;RSVP=TRUE;CN="Monica F
 aberman":http://neighborsforneighbors.org/profile/MonicaFaberman
END:VEVENT
END:VCALENDAR
