BEGIN:VCALENDAR
PRODID:NingEventWidget-v1
VERSION:2.0
METHOD:PUBLISH
BEGIN:VEVENT
UID:1171189:Event:114468
DTSTAMP:20260421T190301Z
SUMMARY:CWEâ€™s 9th Annual Women Business Leaders Conference
DESCRIPTION:CWEâ€™s 9th Annual Women Business Leaders Conference is Ne
 w Englandâ€™s premier educational and networking event for women busin
 ess leaders and supplier diversity professionals.\nÂ \nEARLY-BIRD REGI
 STRATION OPEN till July 31! Â \nÂ \nThis year's event will feature:\nÂ
  Â Â Â Â Â Â Â Â Â Â Â Â Â Â Â Â Â \n\nÂ·Â Educational Sessions - for 
 women business owners, business professionals, and corporate supplier 
 diversity & purchasing professionals\n\nÂ \n\nÂ·Â Keynote Speakers - t
 hree (3) amazing women from New England who launched and led highly su
 ccessful, well-known businesses\n\nÂ \n\nÂ·Â Business Expo Fair - feat
 uring exhibitors showcasing their products and services\n\nÂ \n\nÂ·Â A
 wards Luncheon\n\nÂ \n\nÂ·Â CWE Women-Owned Business Challenge* Finals
  - the final presentations of our ten (10) finalists, representing ear
 ly-stage and mature businesses\n\n* Compete for an opportunity to win 
 $10,000 to grow your business! Applications due Aug. 14, 2014. For mor
 e information, visit www.cweonline.org/2015Challenge or contact 2015Ch
 allenge@cweonline.org\nÂ \n\nÂ·Â Ample opportunities to network & make
  new connections - Including a unique speed-mentoring session and an e
 vening cocktail networking reception\n\nÂ \nFor ticket pricing, regist
 ering, & more info:\nÂ www.cweonline.org/wblc\n\n\nFor more informatio
 n visit http://neighborsforneighbors.org/events/cwe-s-9th-annual-women
 -business-leaders-conference
DTSTART:20151022T160000Z
DTEND:20151023T220000Z
CATEGORIES:conference
LOCATION:Sheraton Framingham Hotel
WEBSITE:http://www.cweonline.org/WBLC
URL:http://www.cweonline.org/WBLC
CONTACT:
ORGANIZER:Center for Women and Enterprise (CWE)
ATTACH;FMTTYPE="image/jpeg":http://storage.ning.com/topology/rest/1.0/
 file/get/2245142996?profile=original
ATTENDEE;ROLE=REQ-PARTICIPANT;PARTSTAT=ACCEPTED;RSVP=TRUE;CN="Monica F
 aberman":http://neighborsforneighbors.org/profile/MonicaFaberman
END:VEVENT
END:VCALENDAR
