BEGIN:VCALENDAR
PRODID:NingEventWidget-v1
VERSION:2.0
METHOD:PUBLISH
BEGIN:VEVENT
UID:1171189:Event:89059
DTSTAMP:20260421T190155Z
SUMMARY:Darol Anger & Emy Phelps w/ special guest Sharon Gilchrist
DESCRIPTION:DAROL ANGER AND EMY PHELPS http://www.darolanger.com/conce
 rts/emy_phelps_and_darol_anger Exceptional among modern fiddlers for h
 is versatility and depth, Darol Anger has helped drive the evolution o
 f the contemporary string band through his involvement with numerous p
 athbreaking ensembles such as his Republic Of Strings, the Turtle Isla
 nd String Quartet, the David Grisman Quintet, Montreux, the Duo and ot
 her ensembles. Today Darol can be heard on NPR's \"Car Talk\" theme ev
 ery week, along with Earl Scruggs, David Grisman and Tony Rice. He has
  recorded and produced scores of important recordings since 1977, is a
  MacDowell and UCross Fellow, and has received numerous composers' res
 idencies and grants. He is a featured soloist on dozens of recordings 
 and motion picture soundtracks. Virtuoso fiddler and multi-string mast
 er Darol Anger here focuses his talents in service of the singer-songw
 riter's art. Emy Phelps is a standout artist in a large field, a proli
 fic songwriter with a riveting voice which plumbs the deepest emotions
 . A musician of note in the Pacific Northwest, she has made a 30 year 
 music career while raising 3 sons and one daughter, achieving degrees 
 in Theatre Arts and Special Education, and touring for 7 years with Br
 ian Ransom's Ceramic Ensemble. In combination, these 2 musicians bring
  out each other's special ability to convey deep emotional resonance a
 nd spark low-key fireworks.  SHARON GILCHRIST http://www.sharon-gilchr
 ist.com/ Sharon Gilchrist originally hails from Southlake, Texas. She 
 has performed with a long list of artists - the Peter Rowan and Tony R
 ice Quartet, Uncle Earl, The Santa Fe All-Stars, the Bill Hearne Trio 
 and Mary & Mars, to name a few. She is currently based out of Santa Fe
 , New Mexico where she teaches private mandolin lessons at Santa Fe St
 ring Studios and is on staff as a mandolin teacher at the College of S
 anta Fe. Sharon received a Bachelor's Degree in Mandolin Performance f
 rom Belmont University in Nashville, Tennessee. While in Nashville, sh
 e spent time playing upright bass with several singer-songwriters in t
 he indie-rock scene such as Josh Rouse, Rebecca Stout and Jennifer Nic
 eley. She also served as musical director and composer for the modern 
 art collective, DddD.  Suggested donation $20 at the door; $15 for JPT
 C members. Plus $1 preservation fee. Doors 7:30, Concert 8:00 Room ca
 pacity is 40, reservations are required, notlobreservations at gmail d
 ot com  Pastries from Fiore's Coffee from JP Licks  More info - https
 ://sites.google.com/site/notlobmusic/ Join the mailing list - http://
 groups.google.com/group/notlobmusic  notloB Folk Concerts has produced
  close to 100 not-for-profit concerts in the greater Boston area since
  2007 (most at the Loring-Greenough House). The series is volunteer-ru
 n; 100% of the donations go to the musicians and production expenses.\
 n\nFor more information visit http://neighborsforneighbors.org/events/
 darol-anger-emy-phelps-w-special-guest-sharon-gilchrist
DTSTART:20120413T000000Z
DTEND:20120413T020000Z
CATEGORIES:concert
LOCATION:Loring-Greenough House
WEBSITE:http://maps.google.com/maps?f=q&source=s_q&hl=en&geocode=&q=12
 +South+Street+02130&sll=42.351996,-71.057153&sspn=0.010498,0.022724&ie
 =UTF8&hq=&hnear=12+South+St,+Boston,+Suffolk,+Massachusetts+02130&z=16
URL:http://maps.google.com/maps?f=q&source=s_q&hl=en&geocode=&q=12+Sou
 th+Street+02130&sll=42.351996,-71.057153&sspn=0.010498,0.022724&ie=UTF
 8&hq=&hnear=12+South+St,+Boston,+Suffolk,+Massachusetts+02130&z=16
CONTACT:6175243158
ORGANIZER;CN="Jeff Boudreau":http://neighborsforneighbors.org/profile/
 JeffBoudreau
ATTACH;FMTTYPE="image/jpeg":http://storage.ning.com/topology/rest/1.0/
 file/get/2245138240?profile=original
ATTENDEE;ROLE=REQ-PARTICIPANT;PARTSTAT=ACCEPTED;RSVP=TRUE;CN="Jeff Bou
 dreau":http://neighborsforneighbors.org/profile/JeffBoudreau
END:VEVENT
END:VCALENDAR
