BEGIN:VCALENDAR
PRODID:NingEventWidget-v1
VERSION:2.0
METHOD:PUBLISH
BEGIN:VEVENT
UID:1171189:Event:93215
DTSTAMP:20260421T185830Z
SUMMARY:Dating While Progressive ( @SoJust Singles Party! )
DESCRIPTION:Happy Valentine's!  Got room for more love in your life? 
 Join us for Dating While Progressive, a fun and welcoming singles* par
 ty!To broaden the pool of good-looking progressives, this Socializing 
 for Justice event is co-hosted by the Boston chapter of the National O
 rganization for Men Against Sexism (NOMAS-Boston), the Boston chapter 
 of the New Leaders Council (NLC Boston), the Bisexual Resource Center,
  the Boston Queer Polyamorous Women's Group, and New Wave - Young Bost
 on Feminists.Haven't been to a Socializing for Justice event? It’s t
 ime to meet the friendly faces of the group that’s grown to over 220
 0 members, hosted 145+ events and fostered hundreds of connections sin
 ce our founding 6+ years ago.RSVP at http://www.sojust.org - newcomers
  always welcomed!Cost: $5-$20 collected at the door.(every $10 include
 s a raffle ticket)Complimentary appetizers will be provided.*YES, WE M
 EAN YOU. Anyone who's single and/or available is invited! Attendees ar
 e all ages, races, genders, sexual orientations, levels of activism an
 d professions. Some just moved to Boston and others were born here. We
  hope you see someone like yourself and meet someone you otherwise wou
 ldn't have.As always we'll help you mix and mingle - so no worries if 
 you're new to SoJust, plus we'll have \"I'M LOOKING FOR\", \"ASK ME AB
 OUT\" tags and a flirty bingo ice-breaker. Join us if you are ready to
  go BEYOND FRIENDS - movements are built on RELATIONSHIPS!THIS IS NOT 
 A MEETING - IT'S A FUN SINGLES PARTY!No Program. No Speaker. (No Speed
  Dating.) Just Us. For Justice.*The venue is open to anyone over 18 (m
 ust be 21+ to enter after 7PM) and is partially physically accessible 
 - elevator is at the back of the venue and bathrooms are big enough fo
 r manual, but not motor-powered, wheelchairs. Lir is across from the H
 ynes Convention Center. Parking near Lir is really hard - you could ge
 t lucky or you could drive around for 30 or more minutes. There are pa
 rking garages by Back Bay station. Best bet is to take the T to Back B
 ay or Hynes Convention Center (which is the closest T stop).HELP SPREA
 D THE WORD!Invite your friends to this facebook event: http://on.fb.me
 /UhsumOJoin the SoJust Facebook group: http://on.fb.me/SoJustOn Twitte
 r? Follow @SoJust (http://www.twitter.com/sojust) and SoJust's Co-Foun
 der @RobbieSamuels (http://www.twitter.com/robbiesamuels). Don’t for
 get to tweet about this event using #sojust!SOCIALIZING FOR JUSTICE - 
 http://www.sojust.orgSoJust is all about building a cross-issue progre
 ssive community, network and movement in Boston. We're doing it by put
 ting the SOCIAL back in SOCIAL JUSTICE. We focus on creating welcoming
  spaces that foster relationship-building across issue silos.SoJust is
 n't a non-profit 501(c)(3) and receives no outside funding. We're a gr
 assroots volunteer-run member-supported cross-issue progressive commun
 ity that's been growing steadily since August 2006. We have over 2200 
 members, we have hosted 145+ events and we manage an online hub of pro
 gressive events and resources at www.sojust.org. If you've benefited f
 rom this cross-issue progressive network please contribute the suggest
 ed annual membership fee of $25. You may do this at http://www.sojust.
 org/dues/, or at any of our events. Thank you for helping us continue 
 to provide a space for like-minded progressives of all stripes.Want to
  know more about SoJust? Check out our page at http://www.sojust.org/!
 \n\nFor more information visit http://neighborsforneighbors.org/events
 /dating-while-progressive-sojust-singles-party
DTSTART:20130214T230000Z
DTEND:20130215T020000Z
CATEGORIES:singles, party, mixer, nightlife
LOCATION:Lir Irish Pub and Restaurant
WEBSITE:
URL:
CONTACT:
ORGANIZER;CN="Socializing for Justice":http://neighborsforneighbors.or
 g/profile/SocializingforJustice71
ATTACH;FMTTYPE="image/jpeg":http://storage.ning.com/topology/rest/1.0/
 file/get/2245140560?profile=original
ATTENDEE;ROLE=REQ-PARTICIPANT;PARTSTAT=ACCEPTED;RSVP=TRUE;CN="Socializ
 ing for Justice":http://neighborsforneighbors.org/profile/Socializingf
 orJustice71
END:VEVENT
END:VCALENDAR
