BEGIN:VCALENDAR
PRODID:NingEventWidget-v1
VERSION:2.0
METHOD:PUBLISH
BEGIN:VEVENT
UID:1171189:Event:87966
DTSTAMP:20260421T181840Z
SUMMARY:Dating While Progressive
DESCRIPTION:Happy Valentine's Day! Ready to meet some like-minded prog
 ressives? Then you'll want to join us for Dating While Progressive, a 
 fun and welcoming singles party!This Socializing for Justice event is 
 co-hosted by the Bisexual Resource Center, the Boston chapter of the N
 ational Organization for Men Against Sexism (NOMAS-Boston), and the Bo
 ston chapter of the New Leaders Council (NLC Boston).Haven't been to a
  Socializing for Justice event? It’s time to meet the friendly faces
  of the group that’s grown to over 1800 members, hosted 110+ events 
 and fostered hundreds of connections since our founding 5+ years ago.R
 SVP at http://www.sojust.org - newcomers always welcomed!Cost: $5-$20 
 collected at the door.(every $10 includes a raffle ticket)Complimentar
 y appetizers will be provided.YES, WE MEAN YOU. Anyone who's single an
 d/or available is invited! Attendees are all ages, races, genders, sex
 ual orientations, levels of activism and professions. Some just moved 
 to Boston and others were born here. We hope you see someone like your
 self and meet someone you otherwise wouldn't have.As always we'll help
  you mix and mingle - so no worries if you're new to SoJust, plus we'l
 l have \"I'M LOOKING FOR\", \"ASK ME ABOUT\" tags and a flirty bingo i
 ce-breaker.Join us if you are ready to go BEYOND FRIENDS - movements a
 re built on RELATIONSHIPS!THIS IS NOT A MEETING - IT'S A FUN SINGLES P
 ARTY!No Program. No Speaker. (No Speed Dating.) Just Us. For Justice.*
 The venue is open to anyone over 18 (must be 21+ to enter after 7PM) a
 nd is partially physically accessible - elevator is at the back of the
  venue and bathrooms are big enough for manual, but not motor-powered,
  wheelchairs. Lir is across from the Hynes Convention Center. Parking 
 near Lir is really hard - you could get lucky or you could drive aroun
 d for 30 or more minutes. There are parking garages by Back Bay statio
 n. Best bet is to take the T to Back Bay or Hynes Convention Center (w
 hich is the closest T stop).HELP SPREAD THE WORD!Invite your friends t
 o this facebook event: http://www.facebook.com/events/253818108024160/
 Join the SoJust Facebook group: http://on.fb.me/SoJustOn Twitter? Foll
 ow @SoJust (http://www.twitter.com/sojust) and SoJust's Co-Founder @Ro
 bbieSamuels (http://www.twitter.com/robbiesamuels). Don’t forget to 
 tweet about this event using #sojust!SOCIALIZING FOR JUSTICE - http://
 www.sojust.orgSoJust is all about building a cross-issue progressive c
 ommunity, network and movement in Boston. We're doing it by putting th
 e SOCIAL back in SOCIAL JUSTICE. We focus on creating welcoming spaces
  that foster relationship-building across issue silos.SoJust isn't a n
 on-profit 501(c)(3) and receives no outside funding. We're a grassroot
 s volunteer-run member-supported cross-issue progressive community tha
 t's been growing steadily since August 2006. We have over 1800 members
 , we have hosted 110+ events and we manage an online hub of progressiv
 e events and resources at www.sojust.org. If you've benefited from thi
 s cross-issue progressive network please contribute the suggested annu
 al membership fee of $25. You may do this at http://www.sojust.org/due
 s/, or at any of our events. Thank you for helping us continue to prov
 ide a space for like-minded progressives of all stripes.Want to know m
 ore about SoJust? Check out our page at http://www.sojust.org/!\n\nFor
  more information visit http://neighborsforneighbors.org/events/dating
 -while-progressive
DTSTART:20120214T230000Z
DTEND:20120215T030000Z
CATEGORIES:social, dating, happy, hour
LOCATION:Lir Irish Pub & Restaurant
WEBSITE:http://www.sojust.org
URL:http://www.sojust.org
CONTACT:
ORGANIZER;CN="Socializing for Justice":http://neighborsforneighbors.or
 g/profile/SocializingforJustice71
ATTACH;FMTTYPE="image/jpeg":
ATTENDEE;ROLE=REQ-PARTICIPANT;PARTSTAT=ACCEPTED;RSVP=TRUE;CN="Socializ
 ing for Justice":http://neighborsforneighbors.org/profile/Socializingf
 orJustice71
END:VEVENT
END:VCALENDAR
