BEGIN:VCALENDAR
PRODID:NingEventWidget-v1
VERSION:2.0
METHOD:PUBLISH
BEGIN:VEVENT
UID:1171189:Event:34628
DTSTAMP:20260421T185839Z
SUMMARY:DCR--Community Review of Improvements to 3 Tot Lots in JP
DESCRIPTION:DCR will provide an update on recent improvements to the a
 gency’s Southwest Corridor playgrounds and solicit public input on p
 roposed improvements to DCR playgrounds at:\nLamartine & Boylston Stre
 ets,\nAmory & Boylston Streets, and\nEverett & Williams Streets.\n\nIf
  inclement weather necessitates postponement of the public meeting, DC
 R will post a notice at www.mass.gov/dcr by 2 p.m. on Feb. 9.\n\nFor m
 ore information visit http://neighborsforneighbors.org/events/dcrcommu
 nity-review-of
DTSTART:20100210T000000Z
DTEND:20100210T013000Z
CATEGORIES:public, meeting, community, input
LOCATION:Spontaneous Celebrations
WEBSITE:
URL:
CONTACT:DCR 617-626-4974   PMAC-Janet Hunkel 617-723-8471
ORGANIZER:DCR-Southwest Corridor Park and PMAC
ATTACH;FMTTYPE="image/jpeg":
ATTENDEE;ROLE=REQ-PARTICIPANT;PARTSTAT=ACCEPTED;RSVP=TRUE;CN="Janet Hu
 nkel":http://neighborsforneighbors.org/profile/JanetHunkel
END:VEVENT
END:VCALENDAR
