BEGIN:VCALENDAR
PRODID:NingEventWidget-v1
VERSION:2.0
METHOD:PUBLISH
BEGIN:VEVENT
UID:1171189:Event:104404
DTSTAMP:20260421T185833Z
SUMMARY:Democratic Free School Information Session
DESCRIPTION:The Joan Rubin School:\nA vision for a new school in Great
 er Boston\n--------------------------------------------------------\n\
 nThis event will be an information session describing our future schoo
 l and\nproviding background on democratic learning models. The school\
 nfounders will speak briefly, followed by a Q&A style discussion.\n\nS
 aturday, November 2nd, 2013 at 11:30 AM\nJamaica Plain Library, 2 Sedg
 wick Street\n\nUnique features of this school will include:\n-Democrat
 ic governance\n-Age-mixed environment\n-Dedication to children's natur
 al development\n-Diversity among student body\n-Self-directed learning
 \n-Healthy and supportive community\n-Year-round School\n-Accessible b
 y public transportation\n\nSchools around the world have used these pr
 inciples of\nstudent-initiated learning and democratic governance. The
 y have been\ncorrelated with successful, happy, and self-aware graduat
 es.\n\nWe want to hear from you!\nWe are actively seeking energetic pe
 ople to help in the work of\nfounding The Joan Rubin School. We are ea
 ger to hear the voices of\nparents interested in this type of educatio
 n for their children.\nPlease join us on November 2nd!\nwww.joanrubins
 chool.org\n\nFor more information visit http://neighborsforneighbors.o
 rg/events/democratic-free-school-information-session
DTSTART:20131011T220000Z
DTEND:20131011T230000Z
CATEGORIES:information, session
LOCATION:Library
WEBSITE:
URL:
CONTACT:
ORGANIZER;CN="Jill Hogan":http://neighborsforneighbors.org/profile/Jil
 lHogan
ATTACH;FMTTYPE="image/jpeg":http://storage.ning.com/topology/rest/1.0/
 file/get/2245141834?profile=original
ATTENDEE;ROLE=REQ-PARTICIPANT;PARTSTAT=ACCEPTED;RSVP=TRUE;CN="Jill Hog
 an":http://neighborsforneighbors.org/profile/JillHogan
END:VEVENT
END:VCALENDAR
