BEGIN:VCALENDAR
PRODID:NingEventWidget-v1
VERSION:2.0
METHOD:PUBLISH
BEGIN:VEVENT
UID:1171189:Event:35353
DTSTAMP:20260421T182420Z
SUMMARY:Diana Fanning, piano
DESCRIPTION:Program:\nLudwig von Beethoven, Sonata in F-sharp Major (O
 pus 78)\nRobert Schumann, Papillons (Opus 2)\nClaude Debussy, Deux Ima
 ges\nFranz Schubert. Sonata in C Minor (D. 958)\n\ntickets $10 at the 
 door\n\nFor more information about internationally known pianist Diana
  Fanning, see http://community.middlebury.edu/~fanning/index.php\n\nFo
 r more information visit http://neighborsforneighbors.org/events/diana
 -fanning-piano
DTSTART:20100221T003000Z
DTEND:20100221T023000Z
CATEGORIES:piano, recital
LOCATION:St. John's Episcopal Church
WEBSITE:http://www.jpconcerts.org/dianaFanningFeb2010.shtml
URL:http://www.jpconcerts.org/dianaFanningFeb2010.shtml
CONTACT:617.874.4009
ORGANIZER:JP Concerts
ATTACH;FMTTYPE="image/jpeg":
ATTENDEE;ROLE=REQ-PARTICIPANT;PARTSTAT=ACCEPTED;RSVP=TRUE;CN="Robert E
 chols":http://neighborsforneighbors.org/profile/RobertEchols
END:VEVENT
END:VCALENDAR
