BEGIN:VCALENDAR
PRODID:NingEventWidget-v1
VERSION:2.0
METHOD:PUBLISH
BEGIN:VEVENT
UID:1171189:Event:36562
DTSTAMP:20260421T194625Z
SUMMARY:Dirt! The Movie
DESCRIPTION:It’s under our feet and under our fingernails, but what 
 is it? And how did it get there? Inspired by William Bryant Logan’s 
 acclaimed book Dirt: The Ecstatic Skin of the Earth, find out how indu
 strial farming, mining and urban development have led us toward catacl
 ysmic droughts, starvation, floods and climate change. Dirt is a part 
 of everything we eat, drink and breathe. Which is why we should stop t
 reating it like, well…dirt.\n\nFor more information visit http://nei
 ghborsforneighbors.org/events/dirt-the-movie
DTSTART:20100313T000000Z
DTEND:20100313T020000Z
CATEGORIES:film
LOCATION:First Church in Jamaica Plain UU, 6 Eliot Street (Across from
  the monument)
WEBSITE:
URL:
CONTACT:
ORGANIZER;CN="Liz W.":http://neighborsforneighbors.org/profile/LizW
ATTACH;FMTTYPE="image/jpeg":http://storage.ning.com/topology/rest/1.0/
 file/get/2245122814?profile=original
ATTENDEE;ROLE=REQ-PARTICIPANT;PARTSTAT=ACCEPTED;RSVP=TRUE;CN="Liz W.":
 http://neighborsforneighbors.org/profile/LizW
END:VEVENT
END:VCALENDAR
