BEGIN:VCALENDAR
PRODID:NingEventWidget-v1
VERSION:2.0
METHOD:PUBLISH
BEGIN:VEVENT
UID:1171189:Event:53600
DTSTAMP:20260421T184139Z
SUMMARY:District 6 City Council Candidates Forum
DESCRIPTION:Mark your calendars! The JP Progressives District 6 City C
 ouncil Candidates’ Forum will take place on Tuesday September 28th. 
 This special election is to fill the City Council seat formerly held b
 y John Tobin, who resigned.\n\nJPP Candidates’ Forum\nTuesday, Septe
 mber 28th\n6:00 pm – 8:30 pm\nNate Smith House (155 Lamartine St, ri
 ght near Stonybrook T)\n\nAll the candidates in the D6 City Council Di
 strict have filled out the Progressive Voter Guide questionnaire and w
 ill be joining us at the candidates’ forum.\n\nHere is the schedule 
 for the evening:\n\n6:00 pm – 6:30 pm | ChunFai Chan\n6:30 pm – 7:
 00 pm | Kosta Demos\n7:00 pm – 7:30 pm | Jim Hennigan\n7:30 pm – 8
 :00 pm | Sean Ryan\n8:00 pm – 8:30 pm | Matt O’Malley\n\nFor more 
 information visit http://neighborsforneighbors.org/events/district-6-c
 ity-council
DTSTART:20100928T220000Z
DTEND:20100929T010000Z
CATEGORIES:candidate, forum
LOCATION:Nate Smith House
WEBSITE:http://www.jpprogressives.com
URL:http://www.jpprogressives.com
CONTACT:
ORGANIZER:JP Progressives
ATTACH;FMTTYPE="image/jpeg":
ATTENDEE;ROLE=REQ-PARTICIPANT;PARTSTAT=ACCEPTED;RSVP=TRUE;CN="Melissa 
 Threadgill":http://neighborsforneighbors.org/profile/MelissaThreadgill
END:VEVENT
END:VCALENDAR
