BEGIN:VCALENDAR
PRODID:NingEventWidget-v1
VERSION:2.0
METHOD:PUBLISH
BEGIN:VEVENT
UID:1171189:Event:83858
DTSTAMP:20260421T200619Z
SUMMARY:Divine Stage Works Presents: The Haunting of Hill House
DESCRIPTION:You’re invited to a frightening evening with Divine Stag
 e Works, featuring a staged reading of The Haunting of Hill House by F
 . Andrew Leslie and based on the book by Shirley Jackson. The amazing 
 Hill House cast includes: Elissa Jordan, Tom Morf, Sharon Martin, Jenn
 ifer Bean, Lynne Lori Sylvan, Brian Moyer, Jim Ansart, and Lindsey Dar
 ling.\n \nEncompassing the delightful terror of the Halloween spirit,
  this gothic horror classic tells the tale of a group of unacquainted 
 guests trapped in a secluded old house. When paranormal activity begin
 s to ensue all hell breaks loose!\n \nThe Taylor House Bed and Breakf
 ast, operated within a gracious Victorian home at 50 Burroughs Street,
  Jamaica Plain, will host the readings on October 21 & 22, 2011 at 8 p
 .m.  Opening night will feature a Palm Reader where guests can get th
 eir palm read for a suggested donation. Both evenings also include an 
 opportunity to win a Ouija Board through the purchase of a raffle tick
 et.\n \nEach of the readings will be followed by a complimentary rece
 ption sponsored by Notch Session.\n \nThe Haunting of Hill House is p
 art of the PlaYces staged reading series, performed by Divine Stage Wo
 rks and hosted by Jamaica Plain partners UFORGE Gallery, the Taylor Ho
 use B&B and the Loring-Greenough House.  The final of the three-part 
 series, the 18th Century comedy She Stoops to Conquer by Oliver Goldsm
 ith will take place at the historic Loring-Greenough House on November
  10 & 11, 2011 at 8 p.m.\n \nTickets for all readings are $12 and can
  be purchased at divinestageworks.com or 1-800-838-3006.  \n \n\nFor
  more information visit http://neighborsforneighbors.org/events/divine
 -stage-works-presents-the-haunting-of-hill-house
DTSTART:20111022T000000Z
DTEND:20111023T030000Z
CATEGORIES:play, reading
LOCATION:The Taylor House B&B
WEBSITE:http://www.divinestageworks.com
URL:http://www.divinestageworks.com
CONTACT:1-800-838-3006
ORGANIZER:Divine Stage Works
ATTACH;FMTTYPE="image/jpeg":
ATTENDEE;ROLE=REQ-PARTICIPANT;PARTSTAT=ACCEPTED;RSVP=TRUE;CN="Liz Lane
 ri":http://neighborsforneighbors.org/profile/LizLaneri
END:VEVENT
END:VCALENDAR
