BEGIN:VCALENDAR
PRODID:NingEventWidget-v1
VERSION:2.0
METHOD:PUBLISH
BEGIN:VEVENT
UID:1171189:Event:36319
DTSTAMP:20260421T185556Z
SUMMARY:DJ David Dancer Presents \"This Is Why They Hate Us\"
DESCRIPTION:THIS IS WHY THEY HATE US\nType:\nParty - Barbecue\nStart T
 ime:\nSaturday, February 27, 2010 at 10:00pm\nEnd Time:\nSunday, Febru
 ary 28, 2010 at 1:00am\nLocation:\nAlchemist Lounge\nDescription\nUgh.
  Wasn't Valentine's day the WORST? I'm glad that's over and I can find
  Cadbury mini eggs on store shelves again! FUCKIN' YUMMY.\n\nAnywhoz, 
 this month we have a special guest DJ who is no stranger to the Boston
  party scene: DJ Joseph Colbourne (Varsity, Group Hug, FOXY, and too m
 any other things to mention. He's like on EVERY flier!)\n\nIn addition
  to extra sound support, we will be having some kind of drink special 
 thnx to Russian Standard Vodka (I'm not really sure what that is, but 
 I know it's, like, twice the price of Svedka, so that says something!)
 \n\nAnywayz, see you @ the Alchemist @ 10pm - 1am.\n\nTHIS IS WHY THEY
  HATE US\nIndie Dance/ Electro/ Post-Punk/ Glam/ New Wave/ Dark Wave/ 
 '80s / whatevz.\n\n21+ / No Cover\nConfirmed Guests\nOfficial Site: ht
 tp://alchemistlounge.com\n\nFor more information visit http://neighbor
 sforneighbors.org/events/dj-david-dancer-presents-this
DTSTART:20100228T030000Z
DTEND:20100228T060000Z
CATEGORIES:indie, "dance/", "electro/", "post-punk/", "glam/", new, "w
 ave/", dark, "'80s", "/", "whatevz."
LOCATION:The Alchemist Lounge
WEBSITE:http://alchemistlounge.com
URL:http://alchemistlounge.com
CONTACT:617-477-5741
ORGANIZER;CN=Lyndon:http://neighborsforneighbors.org/profile/Lyndon
ATTACH;FMTTYPE="image/jpeg":http://storage.ning.com/topology/rest/1.0/
 file/get/2245122276?profile=original
ATTENDEE;ROLE=REQ-PARTICIPANT;PARTSTAT=ACCEPTED;RSVP=TRUE;CN=Lyndon:ht
 tp://neighborsforneighbors.org/profile/Lyndon
END:VEVENT
END:VCALENDAR
