BEGIN:VCALENDAR
PRODID:NingEventWidget-v1
VERSION:2.0
METHOD:PUBLISH
BEGIN:VEVENT
UID:1171189:Event:87514
DTSTAMP:20260421T182420Z
SUMMARY:Duo SopraVoce, flute and violin
DESCRIPTION:Duo SopraVocepresents original music for flute and violino
 n February 5, 2012On February 5, 2012, the Duo SopraVoce - Annegret Kl
 aua, violin and Orlando Cela, flute - will present a concert of origin
 al music for flute and violin that spans 300 years, including music sp
 ecifically written for the duo, at the historic Loring-Greenough House
 , 12 South Street, Jamaica Plain MA, as part of the Sunday Afternoon a
 t the ‘Greenough House parlor concert series.  Selections from the 
 Baroque to the contemporary will enliven your afternoon, interspersed 
 with three world premieres by composers from France, Australia and Isr
 ael.     Meet Orlando and Annegret at afternoon tea following the p
 rogram.The Sunday Afternoon at the ‘Greenough House series recreates
  the atmosphere of 18th and 19th century “musical afternoons” in t
 he 1760 Loring-Greenough House, twice monthly, October to May. Tickets
  are available at the door: donation $15 ($10 seniors, students and JP
 TC members). Space is limited; reservations are suggested—call 617-5
 24-3158 or email lghouseconcerts@aim.com.Violinist Annegret Klaua is a
  freelance musician and teacher in the Boston, MA area. She performs w
 ith the Boston Classical Orchestra, Boston Modern Orchestra Project, A
 lea III, and the Boston Lyric Opera. She has taught at Bridgewater Sta
 te College, Brevard Music Center, Governor's School of North Carolina,
  was a teaching and research assistant at Indiana and Brandeis Univers
 ity, and is currently on the faculty of the Winchester Community Music
  School. Ms. Klaua has participated in the Aspen, Sarasota, Spoleto/It
 aly, and Verbier Festivals and has given many recitals in her native G
 ermany, in Poland, Austria, Switzerland, the US, and Taiwan.Orlando Ce
 la started playing flute at a very early age in his native Venezuela. 
 He pursued flute studies at DePauw University, in Vienna Hochschule fo
 r Musik und Darstellende Kunst, and at the New England Conservatory. O
 rlando is the music director of Willow Flute Ensemble and many other c
 hamber ensembles. He has served as faculty in UMass Dartmouth, SUNY Fr
 edonia and College of the Holy Cross. Orlando’s recordings can be fo
 und in iTunes, CDBaby and Amazon, and include music from all genres an
 d time periods.Built in 1760, the Loring-Greenough House, a local land
 mark listed on the Massachusetts and National Registers of Historic Pl
 aces, is located at 12 South Street (at the Civil War Monument) in Jam
 aica Plain, MA. It is owned and managed by the non-profit Jamaica Plai
 n Tuesday Club, Inc. as a historic house museum and site for art and m
 usic presentations. The Loring-Greenough House is wheelchair accessibl
 e. For more information on the Loring-Greenough House, see www.loring-
 greenough.org.For reservations or directions, call (617)524-3158, or e
 mail  lghouseconcerts@aim.com.Upcoming concerts in this series:   
 Sunday, March 4: Libella: Women’s choral quartet    Sunday, Marc
 h 18: Universal Village. Recorder ensemble presents World Music    
 Sunday, April 1: Pentimento: Eric Haas, recorders, Olav Chris Hendriks
 en, archlute\n\nFor more information visit http://neighborsforneighbor
 s.org/events/duo-sopravoce-flute-and-violin
DTSTART:20120205T200000Z
DTEND:20120205T223000Z
CATEGORIES:parlor, concert, and, tea
LOCATION:Loring-Greenough House,
WEBSITE:http://www.Loring-Greenough.org
URL:http://www.Loring-Greenough.org
CONTACT:617-524-3158
ORGANIZER;CN="Loring-Greenough House Concerts":http://neighborsforneig
 hbors.org/profile/LoringGreenoughHouseConserts
ATTACH;FMTTYPE="image/jpeg":http://storage.ning.com/topology/rest/1.0/
 file/get/2245142950?profile=original
ATTENDEE;ROLE=REQ-PARTICIPANT;PARTSTAT=ACCEPTED;RSVP=TRUE;CN="Loring-G
 reenough House Concerts":http://neighborsforneighbors.org/profile/Lori
 ngGreenoughHouseConserts
END:VEVENT
END:VCALENDAR
