BEGIN:VCALENDAR
PRODID:NingEventWidget-v1
VERSION:2.0
METHOD:PUBLISH
BEGIN:VEVENT
UID:1171189:Event:69317
DTSTAMP:20260421T195828Z
SUMMARY:Easter Egg Hunt - Loring-Greenough House
DESCRIPTION:Join us for our first (annual?) Easter Egg Hunt on the gro
 unds of the Loring-Greenough House, put on by the JP Tuesday Club! Weâ
 €™ll be taking full advantage of our 2 acre lot and beautiful landscap
 e to spend some time welcoming the warmer weather and longer days.\n\n
 Bostonâ€™s own Cupcake Delivery System, the Cupcakory, will be on hand
  to sweeten your day, and there will be coloring pages and shiny eggs 
 full of treats for the kids. Bring your picnic basket and blanket to m
 ake it a fun field day.\n\nThe hunt begins at 11:30am!\n\nFor more inf
 ormation visit http://neighborsforneighbors.org/events/easter-egg-hunt
DTSTART:20110416T153000Z
DTEND:20110416T180000Z
CATEGORIES:field, day
LOCATION:Centre/South
WEBSITE:http://www.loring-greenough.org
URL:http://www.loring-greenough.org
CONTACT:
ORGANIZER:Jamaica Plain Tuesday Club
ATTACH;FMTTYPE="image/jpeg":
ATTENDEE;ROLE=REQ-PARTICIPANT;PARTSTAT=ACCEPTED;RSVP=TRUE;CN="Frances 
 Harrell":http://neighborsforneighbors.org/profile/FrancesHarrell
END:VEVENT
END:VCALENDAR
