BEGIN:VCALENDAR
PRODID:NingEventWidget-v1
VERSION:2.0
METHOD:PUBLISH
BEGIN:VEVENT
UID:1171189:Event:97636
DTSTAMP:20260421T212656Z
SUMMARY:Eastern/Western Boxing Concept
DESCRIPTION:Training Session\n\nFor more information visit http://neig
 hborsforneighbors.org/events/eastern-western-boxing-concept
DTSTART:20130608T140000Z
DTEND:20130608T150000Z
CATEGORIES:self, defense
LOCATION:Contact sam chinatownboston@yahoo.com
WEBSITE:
URL:
CONTACT:
ORGANIZER;CN="Sam Lara":http://neighborsforneighbors.org/profile/samla
 ra
ATTACH;FMTTYPE="image/jpeg":http://storage.ning.com/topology/rest/1.0/
 file/get/2245140832?profile=original
ATTENDEE;ROLE=REQ-PARTICIPANT;PARTSTAT=ACCEPTED;RSVP=TRUE;CN="Sam Lara
 ":http://neighborsforneighbors.org/profile/samlara
END:VEVENT
END:VCALENDAR
