BEGIN:VCALENDAR
PRODID:NingEventWidget-v1
VERSION:2.0
METHOD:PUBLISH
BEGIN:VEVENT
UID:1171189:Event:104940
DTSTAMP:20260421T171713Z
SUMMARY:Economic Development Forum- Mayor-Elect Walsh Transition Team
DESCRIPTION:English High School, 144 McBride Street, Jamaica Plain, MA
  02130. Parking is available on site.\n\nFor more information visit ht
 tp://neighborsforneighbors.org/events/economic-development-forum-mayor
 -elect-walsh-transition-team
DTSTART:20131209T220000Z
DTEND:20131210T000000Z
CATEGORIES:government, forum
LOCATION:English High School
WEBSITE:
URL:
CONTACT:
ORGANIZER;CN="Daniel Verinder":http://neighborsforneighbors.org/profil
 e/DanielVerinder
ATTACH;FMTTYPE="image/jpeg":
ATTENDEE;ROLE=REQ-PARTICIPANT;PARTSTAT=ACCEPTED;RSVP=TRUE;CN="Daniel V
 erinder":http://neighborsforneighbors.org/profile/DanielVerinder
END:VEVENT
END:VCALENDAR
