BEGIN:VCALENDAR
PRODID:NingEventWidget-v1
VERSION:2.0
METHOD:PUBLISH
BEGIN:VEVENT
UID:1171189:Event:75651
DTSTAMP:20260421T200232Z
SUMMARY:Egleston Community Orchard (ECO) Workday
DESCRIPTION:Important perennial tasks for every work day are:[1] Weedi
 ng. The most persistent weeds in ECO (esp. in apple guild!) are- Japan
 ese Knotweed, http://en.wikipedia.org/wiki/Japanese_knotweed- Brown D
 og Strangling Vine, not kidding with name http://en.wikipedia.org/wik
 i/Cynanchum_rossicum- Burdock http://en.wikipedia.org/wiki/Greater_Bu
 rdock- Labrador violets http://en.wikipedia.org/wiki/Viola_labradoric
 a[2] Remove trash/litter especially near the boundaries of ECO where p
 assers-by dump cigarettes, wrappers, etc. Remove stones from grassy/la
 wn/beds.Suggested tasks for 25 June work day:[3] Add compost/leaf mulc
 h to all ornamental plant beds, and around plantings in the apple guil
 d - to improve water retention. Dog days are summer/drought are coming
 .[4] Relocate blueberry bush from ECO back/compost bin to near brick-s
 tone walkway. Plant new blueberry bush alongside brick-stone walkway.[
 5] Start construction of 3-tier composting system.[6] Start work on ra
 in water collection.\n\nFor more information visit http://neighborsfor
 neighbors.org/events/egleston-community-orchard-eco-1
DTSTART:20110625T140000Z
DTEND:20110625T190000Z
CATEGORIES:volunteer, "landscape/agriculture", work
LOCATION:195 Boylston, JP
WEBSITE:http://maps.google.com/maps?q=195+boylston+02130&gl=us&z=16
URL:http://maps.google.com/maps?q=195+boylston+02130&gl=us&z=16
CONTACT:
ORGANIZER;CN="Mike Steinhoff":http://neighborsforneighbors.org/profile
 /MikeSteinhoff
ATTACH;FMTTYPE="image/jpeg":
ATTENDEE;ROLE=REQ-PARTICIPANT;PARTSTAT=ACCEPTED;RSVP=TRUE;CN="Mike Ste
 inhoff":http://neighborsforneighbors.org/profile/MikeSteinhoff
END:VEVENT
END:VCALENDAR
