BEGIN:VCALENDAR
PRODID:NingEventWidget-v1
VERSION:2.0
METHOD:PUBLISH
BEGIN:VEVENT
UID:1171189:Event:89091
DTSTAMP:20260421T200209Z
SUMMARY:Egleston Community Orchard (ECO) work day
DESCRIPTION:Join us for the first work day of 2012 at Egleston Communi
 ty Orchard.  Even after a mild winter, there is still cleanup to be d
 one!  We will be accessing any winter damage and working on the brick
  path.  First projects of the year include building a compost bin sys
 tem, a new entrance arbor, and sowing seeds of cool weather vegetables
 .  \n This is a great opportunity to learn more about gardening and 
 your community, share expertise, be creative, and meet neighbors with 
 similar passions!\nAs always- come by when you can- for as long as you
  can.  See you there!\n\nFor more information visit http://neighborsf
 orneighbors.org/events/egleston-community-orchard-eco-work-day
DTSTART:20120325T140000Z
DTEND:20120325T190000Z
CATEGORIES:community
LOCATION:Egleston Community Orchard
WEBSITE:http://www.puebloboston.org/orchard.html
URL:http://www.puebloboston.org/orchard.html
CONTACT:
ORGANIZER:
ATTACH;FMTTYPE="image/jpeg":
ATTENDEE;ROLE=REQ-PARTICIPANT;PARTSTAT=ACCEPTED;RSVP=TRUE;CN="Julie St
 einhoff":http://neighborsforneighbors.org/profile/JulieSteinhoff
END:VEVENT
END:VCALENDAR
