BEGIN:VCALENDAR
PRODID:NingEventWidget-v1
VERSION:2.0
METHOD:PUBLISH
BEGIN:VEVENT
UID:1171189:Event:83717
DTSTAMP:20260421T185949Z
SUMMARY:Egleston Community Orchard (ECO) Workday
DESCRIPTION:Join your neighbors this Sunday for a workday event at Egl
 eston Community Orchard. Don't miss out- this is one of the last workd
 ays of the year! This week will focus on more winterizing the orchard 
 for the first half of the day.\nFor the second half we will be volunte
 ering a cleanup of the nearby Egleston Peace Garden at the corner of W
 ashington and School Streets.\nThis is a great opportunity to learn mo
 re about gardening and your community, share expertise, and meet neigh
 bors with similar passions! As always- come by when you can- for as lo
 ng as you can. We'll be there from 10am to 3pm. See you there!\n\nFor 
 more information visit http://neighborsforneighbors.org/events/eglesto
 n-community-orchard-eco-workday-1
DTSTART:20111023T140000Z
DTEND:20111023T190000Z
CATEGORIES:volunteer, "landscape/agriculture", work
LOCATION:195 Boylston St., JP.  Then on to the Egleston Peace Garden
WEBSITE:
URL:
CONTACT:
ORGANIZER;CN="Mike Steinhoff":http://neighborsforneighbors.org/profile
 /MikeSteinhoff
ATTACH;FMTTYPE="image/jpeg":
ATTENDEE;ROLE=REQ-PARTICIPANT;PARTSTAT=ACCEPTED;RSVP=TRUE;CN="Mike Ste
 inhoff":http://neighborsforneighbors.org/profile/MikeSteinhoff
END:VEVENT
END:VCALENDAR
