BEGIN:VCALENDAR
PRODID:NingEventWidget-v1
VERSION:2.0
METHOD:PUBLISH
BEGIN:VEVENT
UID:1171189:Event:82686
DTSTAMP:20260421T200209Z
SUMMARY:Egleston Community Orchard (ECO) workday
DESCRIPTION:Join your neighbors this Sunday for a workday event at Egl
 eston Community Orchard. Don't miss out- this is one of the last workd
 ays of the year!  We will begin building a 3rd raised bed and buildin
 g a cold frame from reclaimed windows. This is a great opportunity to 
 learn more about gardening and your community, share expertise, and me
 et neighbors with similar passions!\nAs always- come by when you can- 
 for as long as you can.  See you there!\n\nFor more information visit
  http://neighborsforneighbors.org/events/egleston-community-orchard-ec
 o-workday-2
DTSTART:20111009T140000Z
DTEND:20111009T190000Z
CATEGORIES:community
LOCATION:Egleston Community Orchard
WEBSITE:http://www.puebloboston.org/orchard.html
URL:http://www.puebloboston.org/orchard.html
CONTACT:
ORGANIZER;CN="Julie Steinhoff":http://neighborsforneighbors.org/profil
 e/JulieSteinhoff
ATTACH;FMTTYPE="image/jpeg":
ATTENDEE;ROLE=REQ-PARTICIPANT;PARTSTAT=ACCEPTED;RSVP=TRUE;CN="Julie St
 einhoff":http://neighborsforneighbors.org/profile/JulieSteinhoff
END:VEVENT
END:VCALENDAR
