BEGIN:VCALENDAR
PRODID:NingEventWidget-v1
VERSION:2.0
METHOD:PUBLISH
BEGIN:VEVENT
UID:1171189:Event:78398
DTSTAMP:20260421T200210Z
SUMMARY:Egleston Community Orchard (ECO) workday
DESCRIPTION:Join your neighbors this Saturday for a workday event at E
 gleston Community Orchard.Â  Major tasks include finishing the brick w
 alkway, pruning raspberries, preparing raised beds for fall planting.Â
   This is a great opportunity to learn more about gardening and your c
 ommunity, or share expertise and meet neighbors with similar passions!
 \n\nFor more information visit http://neighborsforneighbors.org/events
 /egleston-community-orchard-eco-workday
DTSTART:20110813T140000Z
DTEND:20110813T190000Z
CATEGORIES:community
LOCATION:Egleston Community Orchard
WEBSITE:http://www.puebloboston.org/orchard.html
URL:http://www.puebloboston.org/orchard.html
CONTACT:
ORGANIZER;CN="Julie Steinhoff":http://neighborsforneighbors.org/profil
 e/JulieSteinhoff
ATTACH;FMTTYPE="image/jpeg":
ATTENDEE;ROLE=REQ-PARTICIPANT;PARTSTAT=ACCEPTED;RSVP=TRUE;CN="Julie St
 einhoff":http://neighborsforneighbors.org/profile/JulieSteinhoff
END:VEVENT
END:VCALENDAR
