BEGIN:VCALENDAR
PRODID:NingEventWidget-v1
VERSION:2.0
METHOD:PUBLISH
BEGIN:VEVENT
UID:1171189:Event:71062
DTSTAMP:20260421T200044Z
SUMMARY:Egleston Community Orchard workday
DESCRIPTION:Projects for the day include:\n \n1. Pathway making (from
  the entrance to the circle in the middle.)2. The second compost bin m
 aking3. Setting up the second raised bed4. Trellis making (for peas)5.
  Plant front garden\n \nMeet great people and help improve our neighb
 orhood too, double win!\n\nFor more information visit http://neighbors
 forneighbors.org/events/egleston-community-orchard
DTSTART:20110430T140000Z
DTEND:20110430T190000Z
CATEGORIES:"workday!"
LOCATION:195 Boylston St.
WEBSITE:http://www.puebloboston.org/orchard.html
URL:http://www.puebloboston.org/orchard.html
CONTACT:
ORGANIZER;CN="Mike Steinhoff":http://neighborsforneighbors.org/profile
 /MikeSteinhoff
ATTACH;FMTTYPE="image/jpeg":
ATTENDEE;ROLE=REQ-PARTICIPANT;PARTSTAT=ACCEPTED;RSVP=TRUE;CN="Mike Ste
 inhoff":http://neighborsforneighbors.org/profile/MikeSteinhoff
END:VEVENT
END:VCALENDAR
