BEGIN:VCALENDAR
PRODID:NingEventWidget-v1
VERSION:2.0
METHOD:PUBLISH
BEGIN:VEVENT
UID:1171189:Event:92320
DTSTAMP:20260421T200546Z
SUMMARY:Egleston Farmers Market
DESCRIPTION:Jamaica Plain’s first winter farmers market features fre
 sh, healthy, locally-grown and produced foods as well as music, art, a
 nd a free coffee corner. The Egleston Farmers Market is open on Saturd
 ays from 11am-2pm. Market dates for 2012/2013 are November 10 and 17, 
 December 8 and 15, and each Saturday in January and February, rain or 
 shine. The market will be held inside Our Lady of Lourdes Parish Hall,
  45 Brookside Avenue, Jamaica Plain. The Parish Hall is near the Brewe
 ry complex and the Stony Brook T stop; plenty of free parking is avail
 able. Shoppers will be able to purchase local produce, meat, eggs, che
 ese, fish, bread, and prepared foods, such as hummus and baked goods. 
 EBT/SNAP payments welcome, with matching Bounty Bucks. For more info, 
 visit www.eglestonfarmersmarket.org\n\nFor more information visit htt
 p://neighborsforneighbors.org/events/egleston-farmers-market-1
DTSTART:20121116T230000Z
DTEND:20121117T000000Z
CATEGORIES:farmers, market
LOCATION:Our Lady of Lourdes Parish Center
WEBSITE:https://maps.google.com/maps?q=45+Brookside+Ave&ll=42.313592,-
 71.102883&spn=0.004832,0.009645&hnear=45+Brookside+Ave,+Boston,+Suffol
 k,+Massachusetts+02130&gl=us&t=m&z=17
URL:https://maps.google.com/maps?q=45+Brookside+Ave&ll=42.313592,-71.1
 02883&spn=0.004832,0.009645&hnear=45+Brookside+Ave,+Boston,+Suffolk,+M
 assachusetts+02130&gl=us&t=m&z=17
CONTACT:
ORGANIZER;CN="Mike Steinhoff":http://neighborsforneighbors.org/profile
 /MikeSteinhoff
ATTACH;FMTTYPE="image/jpeg":
ATTENDEE;ROLE=REQ-PARTICIPANT;PARTSTAT=ACCEPTED;RSVP=TRUE;CN="Mike Ste
 inhoff":http://neighborsforneighbors.org/profile/MikeSteinhoff
END:VEVENT
END:VCALENDAR
