BEGIN:VCALENDAR
PRODID:NingEventWidget-v1
VERSION:2.0
METHOD:PUBLISH
BEGIN:VEVENT
UID:1171189:Event:92753
DTSTAMP:20260421T200514Z
SUMMARY:Egleston Farmers Market!
DESCRIPTION:Egleston Farmers Market Opens In Jamaica Plain Jamaica Pl
 ain’s first winter farmers market features fresh, healthy, locally-g
 rown and produced foods as well as music, art, and a free coffee corne
 r. The Egleston Farmers Market is open on Saturdays from 11am-2pm. Mar
 ket dates for 2012/2013 are November 10 and 17, December 8 and 15, and
  each Saturday in January and February, rain or shine. The market will
  be held inside Our Lady of Lourdes Parish Hall, 45 Brookside Avenue, 
 Jamaica Plain. The Parish Hall is near the Brewery complex and the Sto
 ny Brook T stop; plenty of free parking is available. Shoppers will be
  able to purchase local produce, meat, eggs, cheese, fish, bread, and 
 prepared foods, such as hummus and baked goods. EBT/SNAP payments welc
 ome, with matching Bounty Bucks. For more info, visit www.eglestonfar
 mersmarket.org \n\nFor more information visit http://neighborsforneig
 hbors.org/events/egleston-farmers-market-2
DTSTART:20121201T160000Z
DTEND:20121201T190000Z
CATEGORIES:farmers, market
LOCATION:Our Lady of Lourdes Parish Center, JP
WEBSITE:https://maps.google.com/maps?q=45+Brookside+Ave,+Boston,+MA&hl
 =en&sll=42.31435,-70.970284&sspn=0.414322,0.891953&oq=45&t=h&hnear=45+
 Brookside+Ave,+Boston,+Suffolk,+Massachusetts+02130&z=17
URL:https://maps.google.com/maps?q=45+Brookside+Ave,+Boston,+MA&hl=en&
 sll=42.31435,-70.970284&sspn=0.414322,0.891953&oq=45&t=h&hnear=45+Broo
 kside+Ave,+Boston,+Suffolk,+Massachusetts+02130&z=17
CONTACT:
ORGANIZER;CN="Mike Steinhoff":http://neighborsforneighbors.org/profile
 /MikeSteinhoff
ATTACH;FMTTYPE="image/jpeg":http://storage.ning.com/topology/rest/1.0/
 file/get/2245140091?profile=original
ATTENDEE;ROLE=REQ-PARTICIPANT;PARTSTAT=ACCEPTED;RSVP=TRUE;CN="Mike Ste
 inhoff":http://neighborsforneighbors.org/profile/MikeSteinhoff
END:VEVENT
END:VCALENDAR
