BEGIN:VCALENDAR
PRODID:NingEventWidget-v1
VERSION:2.0
METHOD:PUBLISH
BEGIN:VEVENT
UID:1171189:Event:92662
DTSTAMP:20260421T182743Z
SUMMARY:Egleston Farmers Market
DESCRIPTION:Jamaica Plain’s first winter farmers market features fre
 sh, healthy, locally-grown and produced foods as well as music, art, a
 nd a free coffee corner.  The Market Accepts SNAP/EBT is participati
 ng in the Bounty Bucks Program\n\nmusic by JP musicians Erin Harpe and
  the Delta Swingers (recent winner of the Boston Music Award for BEST 
 BLUES ARTIST!)\ncoffee corner sponsored by Canto 6\na holiday ornament
  craft corner for the kids with George Anastos (participants are asked
  to bring some sparkles and accessories to make latern-like ornaments)
 \nalpaca knit goods and great produce at Yard Birds\nhome energy asses
 sments by Next Step Living\nbalsam wreaths and fresh eggs from Buckle 
 Farm\nbountiful greens from Urban Hydr-O\nfresh pasta and sauce (Valic
 enti Organico)\nhumanely raised meats from Stillmans at the Turkey Far
 m and John Crow\nCheese from Foxboro Cheese and Hickory Nut Farm\nArt 
 by George Anastos and Amy Pett\nspecialty chocolates, cupcakes, breads
 , fresh fish and so much more!\n\n\nFor more information visit http://
 neighborsforneighbors.org/events/egleston-farmers-market-3
DTSTART:20121208T160000Z
DTEND:20121208T190000Z
CATEGORIES:farmers, market
LOCATION:Our Lady of Lourdes Parish Hall
WEBSITE:https://maps.google.com/maps?q=45+Brookside+Ave,+Boston,+MA&hl
 =en&sll=42.31435,-70.970284&sspn=0.414322,0.891953&oq=45&t=h&hnear=45+
 Brookside+Ave,+Boston,+Suffolk,+Massachusetts+02130&z=17
URL:https://maps.google.com/maps?q=45+Brookside+Ave,+Boston,+MA&hl=en&
 sll=42.31435,-70.970284&sspn=0.414322,0.891953&oq=45&t=h&hnear=45+Broo
 kside+Ave,+Boston,+Suffolk,+Massachusetts+02130&z=17
CONTACT:
ORGANIZER;CN="Mike Steinhoff":http://neighborsforneighbors.org/profile
 /MikeSteinhoff
ATTACH;FMTTYPE="image/jpeg":
ATTENDEE;ROLE=REQ-PARTICIPANT;PARTSTAT=ACCEPTED;RSVP=TRUE;CN="Mike Ste
 inhoff":http://neighborsforneighbors.org/profile/MikeSteinhoff
END:VEVENT
END:VCALENDAR
