BEGIN:VCALENDAR
PRODID:NingEventWidget-v1
VERSION:2.0
METHOD:PUBLISH
BEGIN:VEVENT
UID:1171189:Event:92902
DTSTAMP:20260421T200634Z
SUMMARY:Egleston Farmers Market
DESCRIPTION:We have our usually fantastic vendor line up and are also 
 welcoming:\n\nJP's Jason Cohen and the Forest Dance Reunion Drummers (
 though it looks like we will also have an accordion involved, so it sh
 ould be a lot of fun)\nFriends of the Egleston Square Branch Library w
 ill be there to read stories.  They will also be selling tote bags de
 signed by Hernandez School students, calendars and more - support your
  local library!\nDr. Michael Lowney will be there spreading the word a
 bout his new osteopathic practice\nNext Step Living is back to help ma
 ke your home more energy efficient\nComplimentary Coffee will be suppo
 rted by Fazenda Roasters out of Forest Hills\n\nIn addition to these g
 reat things, Go Local is working with our vendors to create great deal
  incentives.  You will be able to get a Go Local card at the market a
 nd take advantage of the vendor deals right away (e.g., $1 off a loaf 
 of bread at Great Cape Baking!).\n\nFor more information visit http://
 neighborsforneighbors.org/events/egleston-farmers-market-5
DTSTART:20130112T160000Z
DTEND:20130112T190000Z
CATEGORIES:farmers, market
LOCATION:Our Lady of Lourdes Parish Center
WEBSITE:https://maps.google.com/maps?q=45+Brookside+Ave,+Boston,+MA&hl
 =en&sll=42.31435,-70.970284&sspn=0.414322,0.891953&oq=45&t=h&hnear=45+
 Brookside+Ave,+Boston,+Suffolk,+Massachusetts+02130&z=17
URL:https://maps.google.com/maps?q=45+Brookside+Ave,+Boston,+MA&hl=en&
 sll=42.31435,-70.970284&sspn=0.414322,0.891953&oq=45&t=h&hnear=45+Broo
 kside+Ave,+Boston,+Suffolk,+Massachusetts+02130&z=17
CONTACT:
ORGANIZER;CN="Mike Steinhoff":http://neighborsforneighbors.org/profile
 /MikeSteinhoff
ATTACH;FMTTYPE="image/jpeg":
ATTENDEE;ROLE=REQ-PARTICIPANT;PARTSTAT=ACCEPTED;RSVP=TRUE;CN="Mike Ste
 inhoff":http://neighborsforneighbors.org/profile/MikeSteinhoff
END:VEVENT
END:VCALENDAR
