BEGIN:VCALENDAR
PRODID:NingEventWidget-v1
VERSION:2.0
METHOD:PUBLISH
BEGIN:VEVENT
UID:1171189:Event:93115
DTSTAMP:20260421T200630Z
SUMMARY:Egleston Farmers Market
DESCRIPTION:Want some fresh salsa? We now have Nola's Fresh Salsa out 
 of the Crop Circle Kitchen at our market! Â Hummus and grape leaves? Â
  Stop by and see Seta. Â Maybe grilled sausage is your thing, well Joh
 n Crow and Stillmans can hook you up there. Condiment heaven can be fo
 und at Doves and Figs (guest vendor this week) - savory and sweet spre
 ads to compliment cheeses (Foxboro and Hickory Nut!), chocolate (Viann
 e!), bread (Great Cape) and more. Â Read below for a full list of vend
 ors, including music, bike repair lessons, kids corner activities and 
 our coffee corner sponsor of the week! Â We hope to see you Saturday!\
 nVENDORS & SPECIALS AT EFM, SATURDAYÂ 2/2/13\nMUSIC: ADELA & JUDE, ame
 ricana duo\nFOOD TRUCK: Mei Mei is back this week (frozen pipes kept t
 hem away last week)!\nCOFFEE CORNER SPONSOR: Ula is back with us for t
 he month of February! Â Enjoy a hot cup of coffee on them!\nKIDS CORNE
 R: The Friends of the Egleston Square Library will be hosting story ti
 me throughout the market and will also have books and tote bags for sa
 le.\n\nSERVICES:\n\nREIKI with Julie Taberman\nVERIDIAN ENERGY CONSULT
  - bring in your energy bills to save money and the environment by swi
 tching to the Veridian service\nBIKE REPAIR - derailleurs this week wi
 th the Boston Cyclists Union\n\n\nPRODUCE:Â \n\nURBAN HYDR-O FARMERS\n
 BROOKWOOD FARM\nBUCKLE FARM (SELLS EGGS)\nSTILLMANâ€™S FARM\n\n\nMEATÂ
  (BEEF, GOAT, LAMB & PORK),Â FISH & EGGS\n\nJOHN CROW FARM - MEAT & EG
 GS\nSTILLMANâ€™S AT THE TURKEY FARM - MEAT & EGGS\nRED'S BEST - SEAFOO
 D\n\n\nPREPARED FOODS, SWEETS & TREATS\n\nBENEVOLENT BEE - HONEY AND O
 THER BEE PRODUCTS (CANDLES, SALVE, ETC.)\nPRIME - AFRICAN ART & GOODS\
 nGREAT CAPE BAKING - BREAD, TEA BREADS, DONUTS\nVIANNE CHOCOLAT\nVALIC
 ENTI ORGANICO - PASTA & SAUCE\nFOXBORO CHEESE\nTHE CUPCAKORY - CUPCAKE
 S & WHOOPIE PIES\nHICKORY NUT FARM - GOAT CHEESE, SOAP & FUDGE\nAKA MA
 RVALICIOUS - VEGAN COOKIES\nNOLAâ€™S FRESH SALSA\nSETAâ€™S MEDITERRANE
 AN - HUMMUS, PITA. GRAPE LEAVES, FALAFAL\nRUUSKA PICKLES\n23) BOTANICA
 L SPIRITS - ALL NATURAL, HAND CRAFTED SKIN & HAIR CARE\nDOVES & FIGS -
  SEASONALLY CRAFTED PRESERVES\n\n\n\n\nFor more information visit http
 ://neighborsforneighbors.org/events/egleston-farmers-market-6
DTSTART:20130202T160000Z
DTEND:20130202T190000Z
CATEGORIES:farmers, market
LOCATION:Our Lady of Lourdes Parish Center
WEBSITE:https://maps.google.com/maps?q=45+Brookside+Ave,+Boston,+MA&hl
 =en&sll=42.31435,-70.970284&sspn=0.414322,0.891953&oq=45&t=h&hnear=45+
 Brookside+Ave,+Boston,+Suffolk,+Massachusetts+02130&z=17
URL:https://maps.google.com/maps?q=45+Brookside+Ave,+Boston,+MA&hl=en&
 sll=42.31435,-70.970284&sspn=0.414322,0.891953&oq=45&t=h&hnear=45+Broo
 kside+Ave,+Boston,+Suffolk,+Massachusetts+02130&z=17
CONTACT:6177650101
ORGANIZER;CN="Mike Steinhoff":http://neighborsforneighbors.org/profile
 /MikeSteinhoff
ATTACH;FMTTYPE="image/jpeg":
ATTENDEE;ROLE=REQ-PARTICIPANT;PARTSTAT=ACCEPTED;RSVP=TRUE;CN="Mike Ste
 inhoff":http://neighborsforneighbors.org/profile/MikeSteinhoff
END:VEVENT
END:VCALENDAR
